BEGIN:VCALENDAR
VERSION:2.0
PRODID:-//ChamberMaster//Event Calendar 2.0//EN
METHOD:PUBLISH
X-PUBLISHED-TTL:P3D
REFRESH-INTERVAL:P3D
CALSCALE:GREGORIAN
BEGIN:VEVENT
DTSTART:20190912T113000Z
DTEND:20190912T130000Z
X-MICROSOFT-CDO-ALLDAYEVENT:FALSE
SUMMARY:Business Education Seminar
DESCRIPTION:Speak Like a Pro: Learn the Art & Science of Delivering Powerful\, Professional Presentations With No Fear\n\n\n\nPresented by Skip Weisman\n\n\n\nIf your professional role requires making presentations for business development\, to develop or train other professionals in your organization\, or to impress your boss\, teammates\, and customers you will want to participate in this session.\n\nBy attending this session you have the opportunity to learn about advanced presentation skills beyond overcoming the fear of making presentations and the basic structuring of a talk. \n\nYou will learn the art and science behind delivering presentations that go beyond just providing information but that inspire and impact any audience\, causing them to lean in to listen\, regardless of how exciting or how dry your topic may be. \n\n \n\nSome of things you may learn include the following:\n\n\n\n*The one secret to improving your presentation skills that most inexperienced and amateur presenters don't want to hear.\n\n*The 4 types of presenters and be able to identify your present level and an aspirational level you can work towards to become an even better presenter.\n\n*Specific techniques and phrasing to guarantee your audience leans in and listens to you instead of checking out and reading the news on the smartphone.\n\n \nSponsored by: Stenger\, Roberts\, Davis & Diamond\, LLP and Rondout Savings Bank
X-ALT-DESC;FMTTYPE=text/html:<p style="background: white\; margin: 0in 0in 0pt\;"><br />\n<span style="color: rgb(255\, 0\, 0)\;"><span style="font-size: 18px\;"><span style="font-family: times new roman\;"><b>Speak&nbsp\;Like a Pro: Learn the Art &amp\; Science of Delivering Powerful\, Professional Presentations With No Fear</b></span></span></span><br />\n<br />\n<strong>Presented by <a href="https://www.yourchampionshipcompany.com/" target="_blank">Skip Weisman</a></strong><br />\n<br />\n<span style="font-size: 16px\;"><em><span style="color: black\;"><font face="Times New Roman">If your professional role requires making presentations for&nbsp\;business development\, to develop or train other professionals in your organization\, or to impress your boss\, teammates\, and customers&hellip\;you will want to participate in this session.</font></span></em></span></p>\n\n<p style="margin: 0in 0in 0pt\; word-spacing: 0px\; box-sizing: border-box\; orphans: 2\; -webkit-text-stroke-width: 0px\;"><span style="font-size: 16px\;"><em><span style="color: black\;"><font face="Times New Roman">By attending this session you have the opportunity to learn about advanced presentation skills beyond overcoming the fear of making presentations and the basic structuring of a talk.&nbsp\;</font></span></em></span></p>\n\n<p style="margin: 0in 0in 0pt\; outline: 0px\; word-spacing: 0px\; box-sizing: border-box\; orphans: 2\; -webkit-text-stroke-width: 0px\;"><span style="font-size: 16px\;"><em><span style="color: black\;"><font face="Times New Roman">You will learn the art and science behind delivering presentations that go beyond just providing information but that inspire and impact any audience\, causing them to lean in to listen\, regardless of how exciting or how dry your topic may be.&nbsp\;</font></span></em></span><br />\n<span style="color: rgb(51\, 51\, 51)\; font-family: &quot\;Calibri&quot\;\,sans-serif\;">&nbsp\;</span></p>\n\n<p style="margin: 0in 0in 0pt\; word-spacing: 0px\; box-sizing: border-box\; orphans: 2\; -webkit-text-stroke-width: 0px\;"><span style="font-size: 18px\;"><font face="Times New Roman"><strong><i><span style="color: black\;">Some of things you may learn include the following:</span></i></strong><br />\n<br />\n<i><span style="color: black\;"><i><span style="color: black\; font-family: &quot\;Calibri&quot\;\,sans-serif\; font-size: 11pt\; mso-fareast-font-family: Calibri\; mso-fareast-theme-font: minor-latin\; mso-ansi-language: EN-US\; mso-fareast-language: EN-US\; mso-bidi-language: AR-SA\;"><strong><span style="font-size: 20px\;">*</span></strong>The one secret to improving your presentation skills that most inexperienced and amateur presenters don&rsquo\;t want to hear.</span></i><br />\n<i><span style="color: black\; font-family: &quot\;Calibri&quot\;\,sans-serif\; font-size: 11pt\; mso-fareast-font-family: Calibri\; mso-fareast-theme-font: minor-latin\; mso-ansi-language: EN-US\; mso-fareast-language: EN-US\; mso-bidi-language: AR-SA\;"><strong><span style="font-size: 20px\;">*</span></strong>The 4 types of presenters and be able to identify your present&nbsp\;level and an aspirational level you can work towards to become an even better presenter.</span></i><br />\n<strong><span style="font-size: 20px\;"><span style="color: black\; font-family: &quot\;Calibri&quot\;\,sans-serif\; mso-fareast-font-family: Calibri\; mso-fareast-theme-font: minor-latin\; mso-ansi-language: EN-US\; mso-fareast-language: EN-US\; mso-bidi-language: AR-SA\;">*</span></span></strong><i><span style="color: black\; font-family: &quot\;Calibri&quot\;\,sans-serif\; font-size: 11pt\; mso-fareast-font-family: Calibri\; mso-fareast-theme-font: minor-latin\; mso-ansi-language: EN-US\; mso-fareast-language: EN-US\; mso-bidi-language: AR-SA\;">Specific techniques and phrasing to guarantee your audience leans in and listens to you instead of checking out and reading the news on the smartphone.</span></i></span></i></font></span><br />\n&nbsp\;</p>\n<span style="font-family: times new roman\;"><span style="text-align: left\; color: rgb(51\, 51\, 51)\; text-transform: none\; text-indent: 0px\; letter-spacing: normal\; font-size: 16px\; font-style: normal\; font-variant: normal\; font-weight: 400\; text-decoration: none\; word-spacing: 0px\; float: none\; display: inline !important\; white-space: normal\; orphans: 2\; background-color: transparent\; -webkit-text-stroke-width: 0px\;"><span style="font-size: 18px\;"><strong>Sponsored by</strong></span>: </span><strong><a href="http://srddlaw.com/" style="text-align: left\; color: rgb(7\, 130\, 193)\; text-transform: none\; text-indent: 0px\; letter-spacing: normal\; font-family: arial\; font-size: 16px\; font-style: normal\; font-variant: normal\; font-weight: 400\; text-decoration: underline\; word-spacing: 0px\; white-space: normal\; orphans: 2\; background-color: transparent\; -webkit-text-stroke-width: 0px\;" target="_blank"><span style="color: rgb(0\, 0\, 255)\;">Stenger\, Roberts\, Davis &amp\; Diamond\, LLP</span></a></strong><span style="text-align: left\; color: rgb(51\, 51\, 51)\; text-transform: none\; text-indent: 0px\; letter-spacing: normal\; font-size: 16px\; font-style: normal\; font-variant: normal\; font-weight: 400\; text-decoration: none\; word-spacing: 0px\; float: none\; display: inline !important\; white-space: normal\; orphans: 2\; background-color: transparent\; -webkit-text-stroke-width: 0px\;"> and </span><strong><a href="https://www.rondoutbank.com/" style="text-align: left\; color: rgb(7\, 130\, 193)\; text-transform: none\; text-indent: 0px\; letter-spacing: normal\; font-family: arial\; font-size: 16px\; font-style: normal\; font-variant: normal\; font-weight: 400\; text-decoration: underline\; word-spacing: 0px\; white-space: normal\; orphans: 2\; background-color: transparent\; -webkit-text-stroke-width: 0px\;" target="_blank"><span style="color: rgb(0\, 0\, 255)\;">Rondout Savings Bank</span></a></strong></span>
LOCATION:Chamber Offices One Civic Center Plaza\, Suite 400 Poughkeepsie
UID:e.2770.10479893
SEQUENCE:3
DTSTAMP:20260422T215514Z
URL:https://business.dcrcoc.org/events/details/business-education-seminar-10479893
END:VEVENT

END:VCALENDAR
