BEGIN:VCALENDAR
VERSION:2.0
PRODID:-//ChamberMaster//Event Calendar 2.0//EN
METHOD:PUBLISH
X-PUBLISHED-TTL:P3D
REFRESH-INTERVAL:P3D
CALSCALE:GREGORIAN
BEGIN:VEVENT
DTSTART:20260527T133000Z
DTEND:20260527T150000Z
X-MICROSOFT-CDO-ALLDAYEVENT:FALSE
SUMMARY:Business Education Seminar: A Guide to Creative Content Creation\, Digital and Social Advertising\, & Online Retargeting
DESCRIPTION:Join us for this informative seminar\, which will focus on small business digital promotion\, Meta ads\, retargeting\, and local growth.\n\n\nPanelists\n\nAva Savosh \n\nVice President of Sales\n\niHeartMedia \n\n \nThank you to our sponsors!\n\nKeyBank\n\nPrager Metis CPAs\, LLC\n\n\n\n\n\nChamber Text Alerts Are Now Available!\n\nHaving difficulty registering online?  Please call the Chamber to register at (845) 454-1700 Ext. 1000.
X-ALT-DESC;FMTTYPE=text/html:<p class="xmsonormal"><span style="color:#000000\;"><span style="font-size:16px\;"><span style="font-family:times new roman\;">Join us for this informative seminar\, which will focus on small business digital promotion\, Meta ads\, retargeting\, and local growth.</span></span></span></p>\n\n<p class="xmsonormal"><o:p></o:p></p>\n<span style="color:#000000\;"><span style="font-size:16px\;"><span style="font-family:times new roman\;"><strong><em>Panelists</em></strong></span></span></span>\n\n<p class="elementtoproof" style="background:white"><span style="color:#000000\;"><span style="font-size:14px\;"><span style="font-family:times new roman\;"><strong>Ava Savosh&nbsp\;</strong><br />\nVice President of Sales<br />\n<strong>iHeartMedia&nbsp\;</strong></span></span></span><br />\n&nbsp\;</p>\n<em><span style="font-size:16px\;"><span style="font-family:times new roman\;"><span style="font-size:18px\;"><strong><span style="color:#000000\;">Thank you to our sponsors!</span><br />\n<a href="https://www.key.com/personal/index.html" target="_blank"><span style="color: rgb(0\, 0\, 255)\;">KeyBank</span></a><br />\n<a href="https://pragermetis.com/"><span style="color:#0000FF\;">Prager Metis CPAs\, LLC</span></a></strong></span></span></span></em><br />\n<br />\n<br />\n<em><a href="https://www.dcrcoc.org/form/view/21946" target="_blank"><span style="color:#FF0000\;"><strong><span style="font-family:georgia\,serif\;"><span style="font-size:18.0pt\;">Chamber Text Alerts Are Now Available!</span></span></strong></span></a></em><br />\n<span style="font-family: calibri\, sans-serif\; font-size: 14.6667px\;">Having difficulty registering online?&nbsp\; Please call the Chamber to register at (845) 454-1700 Ext. 1000.</span>
LOCATION:
UID:e.2770.10500801
SEQUENCE:3
DTSTAMP:20260422T001552Z
URL:https://business.dcrcoc.org/events/details/business-education-seminar-a-guide-to-creative-content-creation-digital-and-social-advertising-online-retargeting-10500801
END:VEVENT

END:VCALENDAR
