BEGIN:VCALENDAR
VERSION:2.0
PRODID:-//ChamberMaster//Event Calendar 2.0//EN
METHOD:PUBLISH
X-PUBLISHED-TTL:P3D
REFRESH-INTERVAL:P3D
CALSCALE:GREGORIAN
BEGIN:VEVENT
DTSTART:20171101T113000Z
DTEND:20171101T130000Z
X-MICROSOFT-CDO-ALLDAYEVENT:FALSE
SUMMARY:Business Education Seminar: Branding
DESCRIPTION:The next Business Education Seminar will feature Todd Fitzgerald of Fast Signs of the Hudson Valley and Sheila Gilday of Gilday Creative presenting on the importance of branding a business in a changing economy. Topics will include exploring what a brand really is\, helpful tips to make a brand relevant to its target market\, and developing a mission and positioning statement. The speakers will also provide worksheets with questions to ask about your business during the branding process.\n\n\n\nSponsored by SRDD Law and Mehl & Associates CPA's
X-ALT-DESC;FMTTYPE=text/html:The next Business Education Seminar will feature&nbsp\;Todd Fitzgerald of Fast Signs of the Hudson Valley and Sheila Gilday of Gilday Creative presenting&nbsp\;on the importance of&nbsp\;branding a business in a changing economy. Topics will include exploring what a brand really is\, helpful tips to make a brand relevant to its target market\, and developing a mission and positioning statement. The speakers will also provide worksheets with questions to ask about your business during the branding process.<br />\n<br />\nSponsored by <strong><a href="http://www.srddlaw.com">SRDD Law</a></strong> and <a href="http://www.hudsonvalleycpas.com"><strong>Mehl &amp\; Associates CPA&#39\;s</strong></a>
LOCATION:Chamber boardroom 1 Civic Center Plaza Suite 400 Poughkeepsie
UID:e.2770.10476068
SEQUENCE:3
DTSTAMP:20260426T020628Z
URL:https://business.dcrcoc.org/events/details/business-education-seminar-branding-10476068
END:VEVENT

END:VCALENDAR
