BEGIN:VCALENDAR
VERSION:2.0
PRODID:-//ChamberMaster//Event Calendar 2.0//EN
METHOD:PUBLISH
X-PUBLISHED-TTL:P3D
REFRESH-INTERVAL:P3D
CALSCALE:GREGORIAN
BEGIN:VEVENT
DTSTART:20180425T193000Z
DTEND:20180425T210000Z
X-MICROSOFT-CDO-ALLDAYEVENT:FALSE
SUMMARY:Business Education Seminar - Networking
DESCRIPTION:Join the Business Education Committee for a panel discussion on networking moderated by Gloria Cukar of MidHudson Regional Hospital and featuring Lisa Morris of Hudson Valley Federal Credit Union\, Tony D'Aquanni of Branding Pros\, and Maria Sciuto of Forte Capital. \n\n\n\nSponsored by: Mehl & Associates\, CPA's\, and Stenger\, Roberts\, Davis & Diamond\, LLP
X-ALT-DESC;FMTTYPE=text/html:<span _mce_style="font-size: 12pt\;" style="font-family: Arial\, Helvetica\, sans-serif\; font-size: 12pt\;">Join the Business Education Committee for a panel discussion on networking moderated by Gloria Cukar of MidHudson Regional Hospital and featuring Lisa Morris of Hudson Valley Federal Credit Union\, Tony D&#39\;Aquanni of Branding Pros\, and Maria Sciuto of Forte Capital.</span><span _mce_style="font-size: 12pt\;" style="font-family: Arial\, Helvetica\, sans-serif\; font-size: 12pt\;">&nbsp\;</span><br />\n<br />\n<span style="font-size: 14px\;"><span style="font-family: arial\;">Sponsored by:&nbsp\;<a href="http://www.hudsonvalleycpas.com/">Mehl&nbsp\;&amp\; Associates\, CPA&#39\;s</a>\, and&nbsp\;<a href="http://srddlaw.com/">Stenger\, Roberts\, Davis &amp\; Diamond\, LLP</a></span></span><br />\n&nbsp\;
LOCATION:The Links at Union Vale 153 N Parliman Rd Lagrangeville\, NY 12540
UID:e.2770.10477163
SEQUENCE:3
DTSTAMP:20260425T194905Z
URL:https://business.dcrcoc.org/events/details/business-education-seminar-networking-10477163
END:VEVENT

END:VCALENDAR
