BEGIN:VCALENDAR
VERSION:2.0
PRODID:-//ChamberMaster//Event Calendar 2.0//EN
METHOD:PUBLISH
X-PUBLISHED-TTL:P3D
REFRESH-INTERVAL:P3D
CALSCALE:GREGORIAN
BEGIN:VEVENT
DTSTART:20171011T193000Z
DTEND:20171011T210000Z
X-MICROSOFT-CDO-ALLDAYEVENT:FALSE
SUMMARY:Business Education Seminar - Real Estate Investing for Business Owners
DESCRIPTION:Philip Mehl of Mehl & Associates\, CPA's and Steve Diamond of SRDD Law will give business owners a comprehensive look into the long-term value of property ownership while providing strategies on how to evaluate and secure the right property.  They will also touch on renting and when renting is actually the wiser choice. Business owners will leave the seminar with a solid grasp on when to purchase\, what to purchase\, and how to protect those investments.\n\n\n\nThe Business Education Seminar series is sponsored by Mehl & Associates\, CPA's & SRDD Law.
X-ALT-DESC;FMTTYPE=text/html:Philip Mehl of <a href="http://www.hudsonvalleycpas.com" target="_blank">Mehl &amp\; Associates\, CPA&#39\;s</a> and Steve Diamond of <a href="http://www.srddlaw.com" target="_blank">SRDD Law</a>&nbsp\;will&nbsp\;give business owners a comprehensive&nbsp\;look into the long-term value of property ownership while providing strategies&nbsp\;on how to evaluate and secure the right property.&nbsp\; They will also touch on renting and when renting is actually the wiser choice. Business owners will leave the seminar with a solid grasp on when to purchase\, what to purchase\, and how to protect those investments.<br />\n<br />\nThe Business Education Seminar series is sponsored by&nbsp\;<a href="http://www.hudsonvalleycpas.com" target="_blank">Mehl&nbsp\;&amp\; Associates\, CPA&#39\;s</a>&nbsp\;&amp\;&nbsp\;<a href="http://www.srddlaw.com" target="_blank">SRDD&nbsp\;Law</a>.
LOCATION:Ahead of Business After Hours Buttermilk Falls Inn & Spa 220 North Road Milton on Hudson\, NY 12547
UID:e.2770.10475819
SEQUENCE:3
DTSTAMP:20260426T033725Z
URL:https://business.dcrcoc.org/events/details/business-education-seminar-real-estate-investing-for-business-owners-10475819
END:VEVENT

END:VCALENDAR
