BEGIN:VCALENDAR
VERSION:2.0
PRODID:-//ChamberMaster//Event Calendar 2.0//EN
METHOD:PUBLISH
X-PUBLISHED-TTL:P3D
REFRESH-INTERVAL:P3D
CALSCALE:GREGORIAN
BEGIN:VEVENT
DTSTART;VALUE=DATE:20180208
DTEND;VALUE=DATE:20180209
TRANSP:TRANSPARENT
X-MICROSOFT-CDO-ALLDAYEVENT:TRUE
SUMMARY:Business Education Seminar - RESCHEDULED
DESCRIPTION:***Please note that our business education seminar is rescheduled and will be held on Friday February 9th. \n\nPlease call 845-454-1700 ext. 1000 by 12 noon on Thursday to register\, confirm registration or cancel your registration.\n\n\n\n\n\n\n\nAs you move through your career\, the more likely you will have to communicate ideas clearly and powerfully in group settings. From saying a few words in a meeting to making a formal presentation to the board\, a winning speaking style will help convey messages with credibility and confidence. What if today  you were asked to speak before a group of employees\, co-workers from another department\, clients\, executives\, or the public? Would you be ready and effective? The reality is\, most people would rather do anything other than speak in public\, and it shows when they do.\n\nThe Business Education Committee of the Chamber will host an interactive workshop with Toastmasters Linda Farley\, Diane Miller and Skip Weisman offering simple tools and techniques to help calm nerves\, cut prep time in half\, and double your impact! \n\nDuring her career at IBM\, Linda volunteered on a variety of committees including Diversity projects in Work/Life Balance\, Women's Interest Network and in Academy of Technology Communication and Leadership training programs.  Regardless of where she spent her time\,  her primary focus was always with an eye toward helping others. \n\n\n\nIn 2014\, she joined IBM Toastmasters club\, with the intent on improving her presentation\, speaking\, and leadership skills.  She soon discovered that being part of Toastmasters enabled her to add value to people's lives in ways she hadn't anticipated.   Retiring in 2017\, Linda now devotes herself full time to enhancing the skills of Toastmasters members throughout the Northeast as well as providing assistance to individuals personally and in corporate environments in realizing their true potential through her personal/business coaching practice\, Cycles of Life Management Services.\nSponsored by: Mehl & Associates CPA's\, and Stenger\, Roberts\, Davis & Diamond\, LLP
X-ALT-DESC;FMTTYPE=text/html:<p class="p1" style="margin: 0px 0px 10.7px\; font-variant-numeric: normal\; font-variant-east-asian: normal\; font-stretch: normal\; font-size: 15px\; line-height: normal\; font-family: Calibri\; color: rgb(51\, 51\, 51)\;">***<strong style="font-family: sans-serif\, Arial\, Verdana\, &quot\;Trebuchet MS&quot\;\; font-size: 16px\; background-color: rgb(255\, 255\, 255)\;"><font face="Calibri"><font color="#000000">Please note that our business education seminar is&nbsp\;rescheduled&nbsp\;and will be held on Friday&nbsp\;February&nbsp\;9th.&nbsp\;</font><br />\n<font color="#000000">Please call 845-454-1700&nbsp\;ext. 1000 by 12 noon on Thursday to register\, confirm registration or cancel your registration.</font></font></strong><br />\n<br />\n<br />\n<br />\n<span style="font-size: 14px\;"><span style="font-family: arial\;">As you move through your career\, the more likely you will have to communicate ideas clearly and powerfully in group settings.&nbsp\;From saying a few words in a meeting to making a formal presentation to the board\, a winning speaking style will help convey messages with credibility and confidence.&nbsp\;What if&mdash\;today&mdash\; you were asked to speak before a group of employees\, co-workers from another department\, clients\, executives\, or the public? Would you be ready and effective?&nbsp\;The reality is\, most people would rather do anything other than speak in public\, and it shows when they do.</span></span></p>\n\n<p class="p1" style="margin: 0px 0px 10.7px\; font-variant-numeric: normal\; font-variant-east-asian: normal\; font-stretch: normal\; font-size: 15px\; line-height: normal\; font-family: Calibri\; color: rgb(51\, 51\, 51)\;"><span style="font-size: 14px\;"><span style="font-family: arial\;">The Business Education Committee of the Chamber will host an interactive workshop with Toastmasters Linda Farley\, Diane Miller and Skip&nbsp\;Weisman&nbsp\;offering simple tools and techniques to help calm nerves\, cut prep time in half\, and double your impact!&nbsp\;</span></span></p>\n\n<p class="p1" style="margin: 0px 0px 10.7px\; font-variant-numeric: normal\; font-variant-east-asian: normal\; font-stretch: normal\; font-size: 15px\; line-height: normal\; font-family: Calibri\; color: rgb(51\, 51\, 51)\;"><span style="font-size: 14px\;"><span style="font-family: arial\;"><span style="color: black\;">During her career at IBM\, Linda volunteered on a variety of committees including Diversity projects in Work/Life&nbsp\;Balance\, Women&rsquo\;s Interest Network and in Academy of Technology Communication and Leadership training programs.&nbsp\; Regardless of where she spent her time\,&nbsp\;&nbsp\;her primary focus was&nbsp\;always with an eye toward helping others.&nbsp\;<br />\n<br />\nIn 2014\, she joined IBM Toastmasters club\, with the intent on&nbsp\;improving&nbsp\;her presentation\, speaking\, and leadership skills.&nbsp\; She soon discovered that being part of Toastmasters enabled her to add&nbsp\;value to people&rsquo\;s lives in ways she hadn&rsquo\;t anticipated.&nbsp\;&nbsp\; Retiring in 2017\, Linda now devotes herself full time to enhancing the skills of Toastmasters members throughout the Northeast as well as providing assistance to individuals personally and in corporate environments in realizing their true potential&nbsp\;through her personal/business coaching practice\, Cycles of Life Management Services.</span></span></span></p>\n<span style="color: rgb(51\, 51\, 51)\; font-family: sans-serif\, Arial\, Verdana\, &quot\;Trebuchet MS&quot\;\; font-size: 14px\;"><span style="font-family: arial\;">Sponsored by:&nbsp\;<a href="http://www.hudsonvalleycpas.com/" style="color: rgb(7\, 130\, 193)\;" target="_blank">Mehl &amp\; Associates CPA&#39\;s</a>\, and&nbsp\;<a href="http://srddlaw.com/" style="color: rgb(7\, 130\, 193)\;" target="_blank">Stenger\, Roberts\, Davis &amp\; Diamond\, LLP</a></span></span>
LOCATION:
UID:e.2770.10476787
SEQUENCE:3
DTSTAMP:20260425T222146Z
URL:https://business.dcrcoc.org/events/details/business-education-seminar-rescheduled-10476787
END:VEVENT

END:VCALENDAR
