BEGIN:VCALENDAR
VERSION:2.0
PRODID:-//ChamberMaster//Event Calendar 2.0//EN
METHOD:PUBLISH
X-PUBLISHED-TTL:P3D
REFRESH-INTERVAL:P3D
CALSCALE:GREGORIAN
BEGIN:VEVENT
DTSTART:20191212T123000Z
DTEND:20191212T140000Z
X-MICROSOFT-CDO-ALLDAYEVENT:FALSE
SUMMARY:Business Education Seminar: Using Your Personal Brand To Build Your Marketing Plan
DESCRIPTION:This seminar will focus on how your personal brand should be a key aspect of your company's marketing plan\, and how good personal branding can lead to success in the work place.\n\n\n\nPresenter: Steve Diamond from Stenger\, Roberts\, Davis & Diamond- SRDD Law\n\n \nSponsored by: Stenger\, Roberts\, Davis & Diamond\, LLP and Rondout Savings Bank
X-ALT-DESC;FMTTYPE=text/html:<p style="background: white\; margin: 0in 0in 0pt\;"><span style="font-size: 14px\;"><span style="font-size: 18px\;"><span style="color: black\; font-family: &quot\;Arial&quot\;\,sans-serif\; mso-fareast-font-family: &quot\;MS Mincho&quot\;\; mso-fareast-theme-font: minor-fareast\; mso-themecolor: text1\; mso-ansi-language: EN-US\; mso-fareast-language: EN-US\; mso-bidi-language: AR-SA\;">This seminar will focus on how your personal brand should be a key aspect of your company&rsquo\;s marketing plan\, and how good personal branding can lead to success in the work place.</span><br />\n<br />\n<span style="color: black\; mso-fareast-font-family: &quot\;MS Mincho&quot\;\; mso-fareast-theme-font: minor-fareast\; mso-themecolor: text1\; mso-ansi-language: EN-US\; mso-fareast-language: EN-US\; mso-bidi-language: AR-SA\;"><em>Presenter</em>: Steve Diamond from Stenger\, Roberts\, Davis &amp\; Diamond- SRDD Law</span></span></span><br />\n&nbsp\;</p>\n<span style="text-align: left\; color: rgb(51\, 51\, 51)\; text-transform: none\; text-indent: 0px\; letter-spacing: normal\; font-family: arial\; font-size: 16px\; font-style: normal\; font-variant: normal\; font-weight: 400\; text-decoration: none\; word-spacing: 0px\; float: none\; display: inline !important\; white-space: normal\; orphans: 2\; background-color: transparent\; -webkit-text-stroke-width: 0px\;">Sponsored by: </span><a href="http://srddlaw.com/" style="text-align: left\; color: rgb(7\, 130\, 193)\; text-transform: none\; text-indent: 0px\; letter-spacing: normal\; font-family: arial\; font-size: 16px\; font-style: normal\; font-variant: normal\; font-weight: 400\; text-decoration: underline\; word-spacing: 0px\; white-space: normal\; orphans: 2\; background-color: transparent\; -webkit-text-stroke-width: 0px\;" target="_blank">Stenger\, Roberts\, Davis &amp\; Diamond\, LLP</a><span style="text-align: left\; color: rgb(51\, 51\, 51)\; text-transform: none\; text-indent: 0px\; letter-spacing: normal\; font-family: arial\; font-size: 16px\; font-style: normal\; font-variant: normal\; font-weight: 400\; text-decoration: none\; word-spacing: 0px\; float: none\; display: inline !important\; white-space: normal\; orphans: 2\; background-color: transparent\; -webkit-text-stroke-width: 0px\;"> and </span><strong><a href="https://www.rondoutbank.com/" style="text-align: left\; color: rgb(7\, 130\, 193)\; text-transform: none\; text-indent: 0px\; letter-spacing: normal\; font-family: arial\; font-size: 16px\; font-style: normal\; font-variant: normal\; font-weight: 400\; text-decoration: underline\; word-spacing: 0px\; white-space: normal\; orphans: 2\; background-color: transparent\; -webkit-text-stroke-width: 0px\;" target="_blank">Rondout Savings Bank</a></strong>
LOCATION:Chamber Offices One Civic Center Plaza Suite 400 Poughkeepsie
UID:e.2770.10479904
SEQUENCE:3
DTSTAMP:20260422T153354Z
URL:https://business.dcrcoc.org/events/details/business-education-seminar-using-your-personal-brand-to-build-your-marketing-plan-10479904
END:VEVENT

END:VCALENDAR
