BEGIN:VCALENDAR
VERSION:2.0
PRODID:-//ChamberMaster//Event Calendar 2.0//EN
METHOD:PUBLISH
X-PUBLISHED-TTL:P3D
REFRESH-INTERVAL:P3D
CALSCALE:GREGORIAN
BEGIN:VEVENT
DTSTART:20180913T113000Z
DTEND:20180913T130000Z
X-MICROSOFT-CDO-ALLDAYEVENT:FALSE
SUMMARY:Business Education Seminar: Worksite Enforcement – Hiring Best Practices & Compliance
DESCRIPTION:Bruce Scott will be the Business Education Committee's special guest speaker. He will be discussing Worksite Enforcement   Hiring Best Practices & Compliance. Bruce is a Special Agent with Homeland Security Investigations (HSI) based out of New York\, NY and has over 20 years of experience working in federal law enforcement for HSI and one of its predecessor agencies\, the US Immigration & Naturalization Service. He has worked in a number of areas including critical infrastructure\, national security\, financial crimes\, child exploitation\, and worksite enforcement and is currently assigned as the IMAGE coordinator for the New York Metro area\, conducting outreach and education to employers about the I-9 Form\, E-Verify and the IMAGE Program.\n\n\n\nTopics covered:\n\n	What is DHS (Department of Homeland Security) & HSI (Homeland Security Investigations)\n	What is Worksite Enforcement?\n	The I-9 Form and I-9 Compliance Audit\n	What is E-Verify and the benefits of using E-Verify\n	The IMAGE Program\n	Best Employment Practices\n	Resources\n	Q&A\n\nThis event is FREE and breakfast will be provided.\n\n\n\nRegistration is required in advance.\n\n\n\nThis Business Education Committee event is complimentary thanks to our generous sponsors \n\nStenger\, Roberts\, Davis & Diamond\, LLP\, and \n\nMehl & Associates\, CPA's.\n\n\n\n\n\nCancellations less than 24-hours from the event and no-shows will be charged a catering fee as food will be provided.
X-ALT-DESC;FMTTYPE=text/html:<br />\n<span style="font-family:arial\;"><span style="font-size:12.0pt\;">Bruce Scott will be the Business Education Committee&rsquo\;s special guest speaker. He will be discussing <strong>Worksite Enforcement &ndash\; Hiring Best Practices &amp\; Compliance</strong>. Bruce is a Special Agent with Homeland Security Investigations (HSI) based out of New York\, NY and has over 20 years of experience working in federal law enforcement for HSI and one of its predecessor agencies\, the US Immigration &amp\; Naturalization Service. He has worked in a number of areas including critical infrastructure\, national security\, financial crimes\, child exploitation\, and worksite enforcement and is currently assigned as the IMAGE coordinator for the New York Metro area\, conducting outreach and education to employers about the I-9 Form\, E-Verify and the IMAGE Program.</span><br />\n<br />\n<strong><u><span style="font-size:12.0pt\;">Topics covered:</span></u></strong></span>\n<ul>\n	<li><span style="font-family:arial\;"><span style="font-size:12.0pt\;">What is DHS (Department of Homeland Security) &amp\; HSI (Homeland Security Investigations)</span></span></li>\n	<li><span style="font-family:arial\;"><span style="font-size:12.0pt\;">What is Worksite Enforcement?</span></span></li>\n	<li><span style="font-family:arial\;"><span style="font-size:12.0pt\;">The I-9 Form and I-9 Compliance Audit</span></span></li>\n	<li><span style="font-family:arial\;"><span style="font-size:12.0pt\;">What is E-Verify and the benefits of using E-Verify</span></span></li>\n	<li><span style="font-family:arial\;"><span style="font-size:12.0pt\;">The IMAGE Program</span></span></li>\n	<li><span style="font-family:arial\;"><span style="font-size:12.0pt\;">Best Employment Practices</span></span></li>\n	<li><span style="font-family:arial\;"><span style="font-size:12.0pt\;">Resources</span></span></li>\n	<li><span style="font-family:arial\;"><span style="font-size:12.0pt\;">Q&amp\;A</span></span></li>\n</ul>\n<span style="font-family:arial\;"><span style="font-size:12.0pt\;">This event is&nbsp\;<strong>FREE</strong>&nbsp\;and breakfast will be provided.</span><br style="font-family: arial\;" />\n<br style="font-family: arial\;" />\n<strong style="font-family: arial\, sans-serif\; font-size: 16px\;">Registration is required in advance.</strong><br />\n<br />\n<span style="font-size:12.0pt\;">This Business Education Committee </span><span style="background:white\;"><span style="color:#333333\;"><span style="font-size:12.0pt\;">event is complimentary thanks to our generous sponsors </span></span></span><br />\n<strong><a href="http://www.srddlaw.com" style="font-size: 16px\;" target="_blank"><span style="color: rgb(0\, 0\, 255)\;">Stenger\, Roberts\, Davis &amp\; Diamond\, LLP</span></a></strong><span style="font-size:12.0pt\;">\, and </span><br />\n<strong><a href="http://www.hudsonvalleycpas.com" style="font-size: 16px\;" target="_blank"><span style="color: rgb(0\, 0\, 255)\;">Mehl &amp\; Associates\, CPA&#39\;s</span></a></strong><span style="background:white\;"><span style="color:#333333\;"><span style="font-size:12.0pt\;">.<br />\n<br />\n<br />\n<strong>Cancellations less than 24-hours from the event and no-shows&nbsp\;will be charged a catering fee as food will be provided.</strong></span></span></span></span><br />\n<br />\n<br />\n&nbsp\;
LOCATION:Dutchess County Regional Chamber of Commerce 1 Civic Center Plaza Suite 400 Poughkeepsie\, NY 12601
UID:e.2770.10476820
SEQUENCE:3
DTSTAMP:20260425T131542Z
URL:https://business.dcrcoc.org/events/details/business-education-seminar-worksite-enforcement-hiring-best-practices-compliance-10476820
END:VEVENT

END:VCALENDAR
