BEGIN:VCALENDAR
VERSION:2.0
PRODID:-//ChamberMaster//Event Calendar 2.0//EN
METHOD:PUBLISH
X-PUBLISHED-TTL:P3D
REFRESH-INTERVAL:P3D
CALSCALE:GREGORIAN
BEGIN:VEVENT
DTSTART:20171017T150000Z
DTEND:20171017T170000Z
X-MICROSOFT-CDO-ALLDAYEVENT:FALSE
SUMMARY:Business Growth Bigger\, Better\, and More Profitable
DESCRIPTION:You will learn:\n\nHow to get funding to expand\n\nWhere to find an appropriate space for expanding\n\nHow to increase sales
X-ALT-DESC;FMTTYPE=text/html:You will learn:<br />\nHow to get funding to expand<br />\nWhere to find an appropriate space for expanding<br />\nHow to increase sales
LOCATION:Catholic Charities Community Services of Dutchess County 218 Church St. Poughkeepsie NY
UID:e.2770.10476370
SEQUENCE:3
DTSTAMP:20260426T033322Z
URL:https://business.dcrcoc.org/events/details/business-growth-bigger-better-and-more-profitable-10476370
END:VEVENT

END:VCALENDAR
