BEGIN:VCALENDAR
VERSION:2.0
PRODID:-//ChamberMaster//Event Calendar 2.0//EN
METHOD:PUBLISH
X-PUBLISHED-TTL:P3D
REFRESH-INTERVAL:P3D
CALSCALE:GREGORIAN
BEGIN:VEVENT
DTSTART:20200625T140000Z
DTEND:20200625T153000Z
X-MICROSOFT-CDO-ALLDAYEVENT:FALSE
SUMMARY:Business Recovery from the Shutdown Registration
DESCRIPTION:Business Recovery from the Shutdown - a Financial Perspective (1.5h)\n\n\n\nTo Register\, Please Click HERE\n\n\n\nMany run a business without much in-depth knowledge of their numbers. It works\, for a while\, until it doesn't anymore. These are extreme times during which having a handle on your numbers is vital. You most likely didn't have much (if any) income in the last two months\, and it's catastrophic. Moving forward\, it's important to understand how you will get out of this hole for the survival of your business.\n\n\n\nThis presentation will explore how to address the minutiae of your financial operations while keeping in mind the end goal. Do you know your breakeven point? Can you create cash flow projections? These two tools help you be in control of your short- and long-term business strategy\, and marketing decisions. During this presentation\, you will learn how to turn your numbers into friends so you can make knowledge-based day-to-day business decisions and increase your bottom line.\n\n\n\nPresenter: Myriam Bouchard\, MBA\, is a Certified Business Advisor at the Mid-Hudson Small Business Development Center. Throughout her career\, she has helped hundreds of organizations in various business stages. A dedicated strategist\, she brings methodology and forward-thinking\, addressing the minutiae of day-to-day operations while keeping in mind the end goal. She uses a lifetime of experience in her advising work\, whether it is reviewing a profit and loss statement to help with cash flow issues or discussing marketing and pricing strategies to increase revenues. Her core strength is doing feasibility analyses\, often leading to successful endeavors and at other times\, the numbers exposing the hurdles of starting or expanding a business.\n\n\n\nThe Mid-Hudson Small Business Development Center offers no-cost one-on-one business counseling to new and existing businesses.
X-ALT-DESC;FMTTYPE=text/html:<span style="color: rgb(35\, 35\, 51)\; font-family: Lato\, Helvetica\, Arial\; font-size: 14px\;">Business Recovery from the Shutdown - a Financial Perspective (1.5h)</span><br />\n<br />\nTo Register\, Please Click <strong><a href="https://zoom.us/webinar/register/WN_6OxBwacQQbuEwt8HWqZTyw" target="_blank"><span style="color:#0000FF\;">HERE</span></a></strong><br style="box-sizing: border-box\; color: rgb(35\, 35\, 51)\; font-family: Lato\, Helvetica\, Arial\; font-size: 14px\;" />\n<br style="box-sizing: border-box\; color: rgb(35\, 35\, 51)\; font-family: Lato\, Helvetica\, Arial\; font-size: 14px\;" />\n<span style="color: rgb(35\, 35\, 51)\; font-family: Lato\, Helvetica\, Arial\; font-size: 14px\;">Many run a business without much in-depth knowledge of their numbers. It works\, for a while\, until it doesn&#39\;t anymore. These are extreme times during which having a handle on your numbers is vital. You most likely didn&#39\;t have much (if any) income in the last two months\, and it&#39\;s catastrophic. Moving forward\, it&#39\;s important to understand how you will get out of this hole for the survival of your business.</span><br style="box-sizing: border-box\; color: rgb(35\, 35\, 51)\; font-family: Lato\, Helvetica\, Arial\; font-size: 14px\;" />\n<br style="box-sizing: border-box\; color: rgb(35\, 35\, 51)\; font-family: Lato\, Helvetica\, Arial\; font-size: 14px\;" />\n<span style="color: rgb(35\, 35\, 51)\; font-family: Lato\, Helvetica\, Arial\; font-size: 14px\;">This presentation will explore how to address the minutiae of your financial operations while keeping in mind the end goal. Do you know your breakeven point? Can you create cash flow projections? These two tools help you be in control of your short- and long-term business strategy\, and marketing decisions. During this presentation\, you will learn how to turn your numbers into friends so you can make knowledge-based day-to-day business decisions and increase your bottom line.</span><br style="box-sizing: border-box\; color: rgb(35\, 35\, 51)\; font-family: Lato\, Helvetica\, Arial\; font-size: 14px\;" />\n<br style="box-sizing: border-box\; color: rgb(35\, 35\, 51)\; font-family: Lato\, Helvetica\, Arial\; font-size: 14px\;" />\n<span style="color: rgb(35\, 35\, 51)\; font-family: Lato\, Helvetica\, Arial\; font-size: 14px\;">Presenter: Myriam Bouchard\, MBA\, is a Certified Business Advisor at the Mid-Hudson Small Business Development Center. Throughout her career\, she has helped hundreds of organizations in various business stages. A dedicated strategist\, she brings methodology and forward-thinking\, addressing the minutiae of day-to-day operations while keeping in mind the end goal. She uses a lifetime of experience in her advising work\, whether it is reviewing a profit and loss statement to help with cash flow issues or discussing marketing and pricing strategies to increase revenues. Her core strength is doing feasibility analyses\, often leading to successful endeavors and at other times\, the numbers exposing the hurdles of starting or expanding a business.</span><br style="box-sizing: border-box\; color: rgb(35\, 35\, 51)\; font-family: Lato\, Helvetica\, Arial\; font-size: 14px\;" />\n<br style="box-sizing: border-box\; color: rgb(35\, 35\, 51)\; font-family: Lato\, Helvetica\, Arial\; font-size: 14px\;" />\n<span style="color: rgb(35\, 35\, 51)\; font-family: Lato\, Helvetica\, Arial\; font-size: 14px\;">The Mid-Hudson Small Business Development Center offers no-cost one-on-one business counseling to new and existing businesses.</span>
LOCATION:
UID:e.2770.10483325
SEQUENCE:3
DTSTAMP:20260422T045023Z
URL:https://business.dcrcoc.org/events/details/business-recovery-from-the-shutdown-registration-10483325
END:VEVENT

END:VCALENDAR
