BEGIN:VCALENDAR
VERSION:2.0
PRODID:-//ChamberMaster//Event Calendar 2.0//EN
METHOD:PUBLISH
X-PUBLISHED-TTL:P3D
REFRESH-INTERVAL:P3D
CALSCALE:GREGORIAN
BEGIN:VEVENT
DTSTART:20200522T143000Z
DTEND:20200522T160000Z
X-MICROSOFT-CDO-ALLDAYEVENT:FALSE
SUMMARY:Business Town Hall with County Executive Marcus Molinaro
DESCRIPTION:The Dutchess County Regional Chamber of Commerce presents the next in its series of complimentary webinars to help businesses and organizations with issues related to COVID-19. This webinar is a Business Town Hall with Dutchess County Executive Marcus Molinaro\, with the latest information from the County about re-opening businesses. Questions will be taken via Zoom and Facebook Live\, as well as the County's Town Hall phone line. This webinar will be recorded and archived to watch on demand.\n\n\n\nThank you to M&T Bank\, Marshall and Sterling Insurance\, and Nuvance Health for sponsoring this event. \n\n\n\nTo Register: https://us02web.zoom.us/webinar/register/WN_ihk9zMf7Taii7U0JBqxeBg
X-ALT-DESC;FMTTYPE=text/html:<span style="font-size:16px\;"><span style="font-family:times new roman\;"><span style="background-color: transparent\; color: rgb(35\, 35\, 51)\; font-variant-numeric: normal\; font-variant-east-asian: normal\;">The Dutchess County Regional Chamber of Commerce presents the next in its series of complimentary webinars to help businesses and organizations with issues related to COVID-19. This webinar is a <strong>Business Town Hall with Dutchess County Executive Marcus Molinaro</strong>\, with the latest information from the County about re-opening businesses. Questions will be taken via Zoom and Facebook Live\, as well as the County&#39\;s Town Hall phone line. This webinar will be recorded and archived to watch on demand.</span><br style="background-color: transparent\; box-sizing: border-box\; color: rgb(35\, 35\, 51)\; font-size: 14px\; font-variant-numeric: normal\; font-variant-east-asian: normal\;" />\n<br style="background-color: transparent\; box-sizing: border-box\; color: rgb(35\, 35\, 51)\; font-size: 14px\; font-variant-numeric: normal\; font-variant-east-asian: normal\;" />\n<span style="background-color: transparent\; color: rgb(35\, 35\, 51)\; font-variant-numeric: normal\; font-variant-east-asian: normal\;">Thank you to </span><span style="background-color: transparent\; font-variant-numeric: normal\; font-variant-east-asian: normal\;"><strong><a href="https://www.mtb.com/home-page" target="_blank"><span style="color:#0000FF\;">M&amp\;T Bank</span></a></strong></span><span style="background-color: transparent\; color: rgb(35\, 35\, 51)\; font-variant-numeric: normal\; font-variant-east-asian: normal\;">\, </span><span style="background-color: transparent\; font-variant-numeric: normal\; font-variant-east-asian: normal\;"><strong><a href="https://www.marshallsterling.com/" target="_blank"><span style="color:#0000FF\;">Marshall and Sterling Insurance</span></a></strong></span><span style="background-color: transparent\; color: rgb(35\, 35\, 51)\; font-variant-numeric: normal\; font-variant-east-asian: normal\;">\, and </span><a href="https://www.nuvancehealth.org/" target="_blank"><strong><span style="color:#0000FF\;"><span style="background-color: transparent\; font-variant-numeric: normal\; font-variant-east-asian: normal\;">Nuvance Health</span></span></strong></a><span style="background-color: transparent\; color: rgb(35\, 35\, 51)\; font-variant-numeric: normal\; font-variant-east-asian: normal\;"> for sponsoring this event.&nbsp\;</span><br />\n<br />\n<strong><span style="color:#000000\;"><span style="background-color: transparent\; font-variant-numeric: normal\; font-variant-east-asian: normal\;">To Register:</span></span></strong><span style="background-color: transparent\; color: rgb(35\, 35\, 51)\; font-variant-numeric: normal\; font-variant-east-asian: normal\;">&nbsp\;</span><strong><a href="https://us02web.zoom.us/webinar/register/WN_ihk9zMf7Taii7U0JBqxeBg" target="_blank"><span style="color:#0000FF\;">https://us02web.zoom.us/webinar/register/WN_ihk9zMf7Taii7U0JBqxeBg</span></a></strong></span></span><br />\n&nbsp\;
LOCATION:
UID:e.2770.10483287
SEQUENCE:3
DTSTAMP:20260422T063750Z
URL:https://business.dcrcoc.org/events/details/business-town-hall-with-county-executive-marcus-molinaro-10483287
END:VEVENT

END:VCALENDAR
