BEGIN:VCALENDAR
VERSION:2.0
PRODID:-//ChamberMaster//Event Calendar 2.0//EN
METHOD:PUBLISH
X-PUBLISHED-TTL:P3D
REFRESH-INTERVAL:P3D
CALSCALE:GREGORIAN
BEGIN:VEVENT
DTSTART:20180117T170000Z
DTEND:20180117T180000Z
X-MICROSOFT-CDO-ALLDAYEVENT:FALSE
SUMMARY:Buying\, Growing & Selling Your Business WEBINAR
DESCRIPTION:What Every Woman Should Know\n\n\n	How to prepare to sell your business?\n	What to look for when thinking about buying a business?\n	How to attract an investor/partner for a start-up?\n	How to continue to grow your business\, and more!\n\n\nWe'd like to welcome our speaker : Harv Hilowitz of Listen Associates Business Brokerage\, Hudson Valley & NYC
X-ALT-DESC;FMTTYPE=text/html:<h2>What Every Woman Should Know</h2>\n\n<ul>\n	<li>How to prepare to sell your business?</li>\n	<li>What to look for when thinking about buying a business?</li>\n	<li>How to attract an investor/partner for a start-up?</li>\n	<li>How to continue to grow your business\, and more!</li>\n</ul>\n\n<p>We&rsquo\;d like to welcome our speaker :&nbsp\;<strong>Harv Hilowitz</strong>&nbsp\;of Listen Associates Business Brokerage\, Hudson Valley &amp\; NYC</p>\n
LOCATION:WEBINAR
UID:e.2770.10476361
SEQUENCE:3
DTSTAMP:20260426T005132Z
URL:https://business.dcrcoc.org/events/details/buying-growing-selling-your-business-webinar-10476361
END:VEVENT

END:VCALENDAR
