BEGIN:VCALENDAR
VERSION:2.0
PRODID:-//ChamberMaster//Event Calendar 2.0//EN
METHOD:PUBLISH
X-PUBLISHED-TTL:P3D
REFRESH-INTERVAL:P3D
CALSCALE:GREGORIAN
BEGIN:VEVENT
DTSTART:20190404T110000Z
DTEND:20190404T220000Z
X-MICROSOFT-CDO-ALLDAYEVENT:FALSE
SUMMARY:Cafe 40 & Co. Grand Opening
DESCRIPTION:Grand Opening of our new cafe & gift shop. 10% off all purchases on 4/4. Specialty coffees featuring North River Roasters Coffee\, Harney Tea\, Baked Goods\, Breakfast & Lunch items. Gift shop has specialty gourmet Blue Olive Oils & Vinegar\, preserves\, tapenades & spreads\, jewelry\, ties\, tote bags\, pocketbooks\, ceramics\, bar-ware & more.
X-ALT-DESC;FMTTYPE=text/html:Grand Opening of our new cafe &amp\; gift shop. 10% off all purchases on 4/4. Specialty coffees featuring North River Roasters Coffee\, Harney Tea\, Baked Goods\, Breakfast &amp\; Lunch items. Gift shop has specialty gourmet Blue Olive Oils &amp\; Vinegar\, preserves\, tapenades &amp\; spreads\, jewelry\, ties\, tote bags\, pocketbooks\, ceramics\, bar-ware &amp\; more.
LOCATION:40 Cannon Street Poughkeepsie\, NY
UID:e.2770.10480638
SEQUENCE:3
DTSTAMP:20260423T062713Z
URL:https://business.dcrcoc.org/events/details/cafe-40-co-grand-opening-10480638
END:VEVENT

END:VCALENDAR
