BEGIN:VCALENDAR
VERSION:2.0
PRODID:-//ChamberMaster//Event Calendar 2.0//EN
METHOD:PUBLISH
X-PUBLISHED-TTL:P3D
REFRESH-INTERVAL:P3D
CALSCALE:GREGORIAN
BEGIN:VEVENT
DTSTART:20180609T130000Z
DTEND:20180609T160000Z
X-MICROSOFT-CDO-ALLDAYEVENT:FALSE
SUMMARY:CAG & NYDEC Fishing Day
DESCRIPTION:The environmental facility which is right on the Hudson and Sam Williams along with Ed Wagner and Barry Howard will host a get know Carp and CAG day !! There will be open fishing rods and bait for newcomers and info and just a fun and informative day. The free fishing is from 9am to noon and for those who might want to continue fishing the rest of the day.a fishing license is needed.
X-ALT-DESC;FMTTYPE=text/html:The environmental facility which is right on the Hudson and Sam Williams along with Ed Wagner and Barry Howard will host a get know Carp and CAG day !! There will be open fishing rods and bait for newcomers and info and just a fun and informative day. The free fishing is from 9am to noon and for those who might want to continue fishing the rest of the day.a fishing license is needed.
LOCATION:256 Norrie Point Way Staatsburg NY 12580
UID:e.2770.10477639
SEQUENCE:3
DTSTAMP:20260425T182418Z
URL:https://business.dcrcoc.org/events/details/cag-nydec-fishing-day-10477639
END:VEVENT

END:VCALENDAR
