BEGIN:VCALENDAR
VERSION:2.0
PRODID:-//ChamberMaster//Event Calendar 2.0//EN
METHOD:PUBLISH
X-PUBLISHED-TTL:P3D
REFRESH-INTERVAL:P3D
CALSCALE:GREGORIAN
BEGIN:VEVENT
DTSTART:20171118T010000Z
DTEND:20171118T023000Z
X-MICROSOFT-CDO-ALLDAYEVENT:FALSE
SUMMARY:Camerata Chorale Fall Concert
DESCRIPTION:Camerata Chorale presents Unsung Masterworks featuring works by Michael Haydn "Timete Dominum"\, Giovanni Battista Sammartini "Magnificant" \, Josquin DesPres "Mittit ad Virginem" and Darius Milhaud "Cantique du Rhone".  \n\nConductor - Lee H. Pritchard\; Accompanist - Gary Palmieri\; Soloists - Linda Breshahan-McCarthy\, Brittany Solkolowski and Christopher Sokolowski.
X-ALT-DESC;FMTTYPE=text/html:Camerata Chorale presents Unsung Masterworks featuring works by Michael Haydn &quot\;Timete Dominum&quot\;\, Giovanni Battista Sammartini &quot\;Magnificant&quot\; \, Josquin DesPres &quot\;Mittit ad Virginem&quot\; and Darius Milhaud &quot\;Cantique du Rhone&quot\;. &nbsp\;<br />\nConductor - Lee H. Pritchard\; Accompanist - Gary Palmieri\; Soloists - Linda Breshahan-McCarthy\, Brittany Solkolowski and Christopher Sokolowski.
LOCATION:New Paltz United Methodist Church 1 Grove Street New Paltz\, NY 12561
UID:e.2770.10476601
SEQUENCE:3
DTSTAMP:20260426T033352Z
URL:https://business.dcrcoc.org/events/details/camerata-chorale-fall-concert-11-17-2017-10476601
END:VEVENT

END:VCALENDAR
