BEGIN:VCALENDAR
VERSION:2.0
PRODID:-//ChamberMaster//Event Calendar 2.0//EN
METHOD:PUBLISH
X-PUBLISHED-TTL:P3D
REFRESH-INTERVAL:P3D
CALSCALE:GREGORIAN
BEGIN:VEVENT
DTSTART:20180911T223000Z
DTEND:20180912T013000Z
X-MICROSOFT-CDO-ALLDAYEVENT:FALSE
SUMMARY:Camerata Chorale Fall Concert Auditions
DESCRIPTION:Camerata Chorale is beginning its 54th season of exciting choral work. Auditions will be held on September 11 and September 18 at the Poughkeepsie Reformed Church\, 70 Hooker Ave. in Poughkeepsie.\n\n\n\nVisit us at www.camerata-chorale.org and Facebook - Camerata Chorale of Poughkeepsie.\n\n\n\nCome and sing some beautiful music with us!
X-ALT-DESC;FMTTYPE=text/html:Camerata Chorale is beginning its 54th season of exciting choral work. Auditions will be held on September 11 and September 18 at the Poughkeepsie Reformed Church\, 70 Hooker Ave. in Poughkeepsie.<br />\n<br />\nVisit us at www.camerata-chorale.org and Facebook - Camerata Chorale of Poughkeepsie.<br />\n<br />\nCome and sing some beautiful music with us!
LOCATION:The Reformed Church of Poughkeepsie 70 Hooker Ave. Poughkeepsie NY 12603
UID:e.2770.10479457
SEQUENCE:3
DTSTAMP:20260425T131255Z
URL:https://business.dcrcoc.org/events/details/camerata-chorale-fall-concert-auditions-10479457
END:VEVENT

END:VCALENDAR
