BEGIN:VCALENDAR
VERSION:2.0
PRODID:-//ChamberMaster//Event Calendar 2.0//EN
METHOD:PUBLISH
X-PUBLISHED-TTL:P3D
REFRESH-INTERVAL:P3D
CALSCALE:GREGORIAN
BEGIN:VEVENT
DTSTART:20181118T203000Z
DTEND:20181118T220000Z
X-MICROSOFT-CDO-ALLDAYEVENT:FALSE
SUMMARY:Camerata Chorale Fall Concerts - An Early Time for Caroling
DESCRIPTION:Join us for an "Early Time for Caroling" featuring carols old and new\, familiar and unfamiliar and an audience sing-along!\n\nCamerata Chorale has been performing in the Mid-Hudson Valley for 50+ years offering an exceptional variety of music to their audiences.\n\n\n\nVisit our Facebook page at   https://www.facebook.com/midhudsoncameratachorale.
X-ALT-DESC;FMTTYPE=text/html:Join us for an &quot\;Early Time for Caroling&quot\; featuring carols old and new\, familiar and unfamiliar and an audience sing-along!<br />\nCamerata Chorale has been performing in the Mid-Hudson Valley for 50+ years offering an exceptional variety of music to their audiences.<br />\n<br />\nVisit our Facebook page at&nbsp\;&nbsp\; https://www.facebook.com/midhudsoncameratachorale.
LOCATION:Poughkeepsie Reformed Church 70 Hooker Ave. Poughkeepsie\, NY
UID:e.2770.10479854
SEQUENCE:3
DTSTAMP:20260425T102148Z
URL:https://business.dcrcoc.org/events/details/camerata-chorale-fall-concerts-an-early-time-for-caroling-11-18-2018-10479854
END:VEVENT

END:VCALENDAR
