BEGIN:VCALENDAR
VERSION:2.0
PRODID:-//ChamberMaster//Event Calendar 2.0//EN
METHOD:PUBLISH
X-PUBLISHED-TTL:P3D
REFRESH-INTERVAL:P3D
CALSCALE:GREGORIAN
BEGIN:VEVENT
DTSTART:20200902T220000Z
DTEND:20200903T000000Z
X-MICROSOFT-CDO-ALLDAYEVENT:FALSE
SUMMARY:Camino a la Iniciativa Empresarial
DESCRIPTION:No se pierda este seminario web dise ado para introducir conceptos de como ser un due o de negocios exitoso! \n\n\n\nAprender :\n\n\n	\n	 Qu  implica ser un due o de negocio?\n	\n	\n	 Qu  se necesita hacer para empezar su empresa?\n	\n	\n	 Por qu  fracasan los negocios?\n	\n	\n	Donde conseguir permisos y licencias\n	\n	\n	Recursos que WEDC ofrece para ayudarlo a tener  xito
X-ALT-DESC;FMTTYPE=text/html:<p><span style="font-size:16px">&iexcl\;No se pierda este seminario web dise&ntilde\;ado para introducir conceptos de como ser un due&ntilde\;o de negocios exitoso!&nbsp\;<br />\n<br />\n<strong>Aprender&aacute\;:</strong></span></p>\n\n<ul>\n	<li>\n	<p><span style="font-size:16px">&iquest\;Qu&eacute\; implica ser un due&ntilde\;o de negocio?</span></p>\n	</li>\n	<li>\n	<p><span style="font-size:16px">&iquest\;Qu&eacute\; se necesita hacer para empezar su empresa?</span></p>\n	</li>\n	<li>\n	<p><span style="font-size:16px">&iquest\;Por qu&eacute\; fracasan los negocios?</span></p>\n	</li>\n	<li>\n	<p><span style="font-size:16px">Donde conseguir permisos y licencias</span></p>\n	</li>\n	<li>\n	<p><span style="font-size:16px">Recursos que WEDC ofrece para ayudarlo a tener &eacute\;xito</span></p>\n	</li>\n</ul>\n
LOCATION:Seminario Web
UID:e.2770.10484426
SEQUENCE:3
DTSTAMP:20260422T002121Z
URL:https://business.dcrcoc.org/events/details/camino-a-la-iniciativa-empresarial-09-02-2020-10484426
END:VEVENT

END:VCALENDAR
