BEGIN:VCALENDAR
VERSION:2.0
PRODID:-//ChamberMaster//Event Calendar 2.0//EN
METHOD:PUBLISH
X-PUBLISHED-TTL:P3D
REFRESH-INTERVAL:P3D
CALSCALE:GREGORIAN
BEGIN:VEVENT
DTSTART:20180830T220000Z
DTEND:20180831T000000Z
X-MICROSOFT-CDO-ALLDAYEVENT:FALSE
SUMMARY:Camino a la Iniciativa Empresarial
DESCRIPTION:No se pierda este taller dise ado para introducir conceptos de como ser un due o de negocios exitoso!\n \n\nAprenda acerca de:\n\n\n	\n	Las caracter sticas de un empresario exitoso\n	\n	\n	Que se necesita hacer para abrir su propio negocio\, quienes ser n sus clientes\, su competencia\, donde conseguir permisos y licencias para su negocio\n	\n	\n	Recursos que WEDC ofrece para ayudarlo a tener  xito y mucho m s!
X-ALT-DESC;FMTTYPE=text/html:<h3><br />\n<span style="font-size:18px">&iexcl\;No se pierda este taller dise&ntilde\;ado para introducir conceptos de como ser un due&ntilde\;o de negocios exitoso!</span></h3>\n&nbsp\;\n\n<div>Aprenda acerca de:</div>\n\n<ul>\n	<li>\n	<div>Las caracter&iacute\;sticas de un empresario exitoso</div>\n	</li>\n	<li>\n	<div>Que se necesita hacer para abrir su propio negocio\, quienes ser&aacute\;n sus clientes\, su competencia\, donde conseguir permisos y licencias para su negocio</div>\n	</li>\n	<li>\n	<div>Recursos que WEDC ofrece para ayudarlo a tener&nbsp\;&eacute\;xito y mucho m&aacute\;s!</div>\n	</li>\n</ul>\n
LOCATION:Adriance Memorial Library 93 Market Street Poughkeepsie\, NY 12601
UID:e.2770.10479297
SEQUENCE:3
DTSTAMP:20260425T144524Z
URL:https://business.dcrcoc.org/events/details/camino-a-la-iniciativa-empresarial-10479297
END:VEVENT

END:VCALENDAR
