BEGIN:VCALENDAR
VERSION:2.0
PRODID:-//ChamberMaster//Event Calendar 2.0//EN
METHOD:PUBLISH
X-PUBLISHED-TTL:P3D
REFRESH-INTERVAL:P3D
CALSCALE:GREGORIAN
BEGIN:VEVENT
DTSTART:20200218T230000Z
DTEND:20200219T010000Z
X-MICROSOFT-CDO-ALLDAYEVENT:FALSE
SUMMARY:CANCELED - Family Game Night
DESCRIPTION:THIS EVENT HAS BEEN CANCELED.  THANK YOU.
X-ALT-DESC;FMTTYPE=text/html:<p style="margin: 0px\;"><font color="#007600" face="tahoma" size="3">THIS EVENT HAS BEEN CANCELED.&nbsp\; THANK YOU.&nbsp\;</font></p>\n
LOCATION:
UID:e.2770.10482660
SEQUENCE:3
DTSTAMP:20260422T120827Z
URL:https://business.dcrcoc.org/events/details/canceled-family-game-night-10482660
END:VEVENT

END:VCALENDAR
