BEGIN:VCALENDAR
VERSION:2.0
PRODID:-//ChamberMaster//Event Calendar 2.0//EN
METHOD:PUBLISH
X-PUBLISHED-TTL:P3D
REFRESH-INTERVAL:P3D
CALSCALE:GREGORIAN
BEGIN:VEVENT
DTSTART:20171024T230000Z
DTEND:20171025T000000Z
X-MICROSOFT-CDO-ALLDAYEVENT:FALSE
SUMMARY:Candidate Forum
DESCRIPTION:The Chamber and HVNN.com will moderate a discussion between the candidates for the At-Large position on the City of Poughkeepsie Common Council.\n\n\n\n \n\n\n\nCandidates:\n\n\n\nAnn Finney (D)\n\n\n\nMike Young (R)\n\n\n\nMario Johnson (I)\n\n\n\n \n\n\n\nModerators: \n\nRoger Connor\, Political Correspondent\, HVNN.com\n\nFrank Castella\, Jr.\, President & CEO\, Dutchess County Regional Chamber of Commerce\n\n\n\n \n\n\n\nThe event is free and open to the public and will be streamed live on HVNN.com and then available to watch on-demand.\n\n\n\nSponsored by: Fortress Financial Advisory
X-ALT-DESC;FMTTYPE=text/html:<div color:="" data-block="true" data-editor="bo2q4" data-offset-key="31ds-0-0" font-size:="" helvetica="" white-space:="">\n<div data-offset-key="31ds-0-0">The Chamber and HVNN.com will moderate a discussion between the candidates for the At-Large position on the City of Poughkeepsie Common Council.</div>\n</div>\n\n<div color:="" data-block="true" data-editor="bo2q4" data-offset-key="63ohf-0-0" font-size:="" helvetica="" white-space:="">\n<div data-offset-key="63ohf-0-0">&nbsp\;</div>\n</div>\n\n<div color:="" data-block="true" data-editor="bo2q4" data-offset-key="65bq6-0-0" font-size:="" helvetica="" white-space:="">\n<div data-offset-key="65bq6-0-0"><strong>Candidates:</strong></div>\n</div>\n\n<div color:="" data-block="true" data-editor="bo2q4" data-offset-key="ap59b-0-0" font-size:="" helvetica="" white-space:="">\n<div data-offset-key="ap59b-0-0">Ann Finney (D)</div>\n</div>\n\n<div color:="" data-block="true" data-editor="bo2q4" data-offset-key="ej29i-0-0" font-size:="" helvetica="" white-space:="">\n<div data-offset-key="ej29i-0-0">Mike Young (R)</div>\n</div>\n\n<div color:="" data-block="true" data-editor="bo2q4" data-offset-key="3sj0q-0-0" font-size:="" helvetica="" white-space:="">\n<div data-offset-key="3sj0q-0-0">Mario Johnson (I)</div>\n</div>\n\n<div color:="" data-block="true" data-editor="bo2q4" data-offset-key="7lgqb-0-0" font-size:="" helvetica="" white-space:="">\n<div data-offset-key="7lgqb-0-0">&nbsp\;</div>\n</div>\n\n<div color:="" data-block="true" data-editor="bo2q4" data-offset-key="76tm0-0-0" font-size:="" helvetica="" white-space:="">\n<div data-offset-key="76tm0-0-0"><strong>Moderators: </strong><br />\nRoger Connor\, Political Correspondent\, HVNN.com<br />\nFrank Castella\, Jr.\, President &amp\; CEO\, Dutchess County Regional Chamber of Commerce</div>\n</div>\n\n<div color:="" data-block="true" data-editor="bo2q4" data-offset-key="98s82-0-0" font-size:="" helvetica="" white-space:="">\n<div data-offset-key="98s82-0-0">&nbsp\;</div>\n</div>\n\n<div color:="" data-block="true" data-editor="bo2q4" data-offset-key="4j60u-0-0" font-size:="" helvetica="" white-space:="">\n<div data-offset-key="4j60u-0-0">The event is free and open to the public and will be streamed live on <a href="http://hvnn.com" target="_blank">HVNN.com</a>&nbsp\;and then available to watch on-demand.<br />\n<br />\nSponsored by: <a href="http://lifemark.com/WilliamFrancis" target="_blank">Fortress Financial Advisory</a></div>\n</div>\n
LOCATION:ChangePoint Theatre 260 Mill Street Poughkeepsie
UID:e.2770.10476381
SEQUENCE:3
DTSTAMP:20260426T033139Z
URL:https://business.dcrcoc.org/events/details/candidate-forum-10476381
END:VEVENT

END:VCALENDAR
