BEGIN:VCALENDAR
VERSION:2.0
PRODID:-//ChamberMaster//Event Calendar 2.0//EN
METHOD:PUBLISH
X-PUBLISHED-TTL:P3D
REFRESH-INTERVAL:P3D
CALSCALE:GREGORIAN
BEGIN:VEVENT
DTSTART:20190411T213000Z
DTEND:20190412T003000Z
X-MICROSOFT-CDO-ALLDAYEVENT:FALSE
SUMMARY:CAPE's 32nd Anniversary Celebration
DESCRIPTION:CAPE & The CAPE Foundation present the 32nd Anniversary Celebration of CAPE! Join us for a night of hope and joyful celebration as we "lift the mask" on substance use disorder in our community. We reflect on 2018 and look forward to the year ahead\, as we enjoy food\, music\, awards\, and keynote speaker. Tickets are $65 each and are available online for purchase. Sponsorships are available. See our website for details: http://capedc.org/events/anniversary-2019/
X-ALT-DESC;FMTTYPE=text/html:CAPE &amp\; The CAPE Foundation present the 32nd Anniversary Celebration of CAPE! Join us for a night of hope and joyful celebration as we &quot\;lift the mask&quot\; on substance use disorder in our community. We reflect on 2018 and look forward to the year ahead\, as we enjoy food\, music\, awards\, and keynote speaker. Tickets are $65 each and are available online for purchase. Sponsorships are available. See our website for details: http://capedc.org/events/anniversary-2019/
LOCATION:Locust Grove\, 2683 Route 9\, Poughkeepsie\, NY 1260
UID:e.2770.10480213
SEQUENCE:3
DTSTAMP:20260423T062435Z
URL:https://business.dcrcoc.org/events/details/cape-s-32nd-anniversary-celebration-10480213
END:VEVENT

END:VCALENDAR
