BEGIN:VCALENDAR
VERSION:2.0
PRODID:-//ChamberMaster//Event Calendar 2.0//EN
METHOD:PUBLISH
X-PUBLISHED-TTL:P3D
REFRESH-INTERVAL:P3D
CALSCALE:GREGORIAN
BEGIN:VEVENT
DTSTART:20180123T223000Z
DTEND:20180123T233000Z
X-MICROSOFT-CDO-ALLDAYEVENT:FALSE
SUMMARY:Career Transitions Class by Carol Gordon
DESCRIPTION:FREE introductory session for a six-session course on career transitioning by career and worklife expert\, Carol Gordon of Carol Gordon Consulting.\n\nThis FREE introductory session will look at concepts to be presented in Carol Gordon's upcoming small group class on career transitioning\, including exploring limiting beliefs\, why work-fit matters and how to realize one's ultimate career ambitions. Sign up for the course during the introductory session for discount on the class fee.
X-ALT-DESC;FMTTYPE=text/html:<p><span style="color:black">FREE introductory session for a six-session course on career transitioning by career and worklife expert\, Carol Gordon of&nbsp\;<a href="http://www.consultcarolgordon.com/" rel="noopener noreferrer" target="_blank">Carol Gordon Consulting</a>.</span></p>\n\n<p><span style="color:black">This FREE introductory session will look at concepts to be presented in Carol Gordon&rsquo\;s upcoming small group class on career transitioning\, including exploring limiting beliefs\, why work-fit matters and how to realize one&rsquo\;s ultimate career ambitions. Sign up for the course during the introductory session for discount on the class fee.</span></p>\n\n<p><span style="color:black">&nbsp\;</span></p>\n
LOCATION:Integrated Enterprise Solutions\, Inc. 668 Dutchess Turnpike\, Suite 201 Poughkeepsie\, NY
UID:e.2770.10476698
SEQUENCE:3
DTSTAMP:20260425T232244Z
URL:https://business.dcrcoc.org/events/details/career-transitions-class-by-carol-gordon-10476698
END:VEVENT

END:VCALENDAR
