BEGIN:VCALENDAR
VERSION:2.0
PRODID:-//ChamberMaster//Event Calendar 2.0//EN
METHOD:PUBLISH
X-PUBLISHED-TTL:P3D
REFRESH-INTERVAL:P3D
CALSCALE:GREGORIAN
BEGIN:VEVENT
DTSTART:20180830T220000Z
DTEND:20180831T000000Z
X-MICROSOFT-CDO-ALLDAYEVENT:FALSE
SUMMARY:CareMount Medical Hosts Free Educational Medicare Meetings
DESCRIPTION:CareMount Medical will be hosting free\, educational Medicare meetings throughout the Hudson Valley. Each seminar will discuss the basics of Medicare and your coverage options. If you need help understanding your Medicare options\, come join us at a meeting. You'll learn about the choices you have such as:   Medicare Prescription Drug Plans   Original Medicare   Medicare Supplement Plans   Medicare Advantage Plans Call today any time between 8:30AM to 5:00PM in your local time zone (TTY users call 711) Monday   Friday to reserve your seat: 1-844-879-4369. Fishkill\, NY Fishkill Courtyard (17 Westage Drive Fishkill\, NY 12524) 6/28\, 7/14\, 8/18 (10:00AM   12:00PM) Poughkeepsie\, NY Poughkeepsie Hampton Inn & Suites (2361 South Road Poughkeepsie\, NY 12601) 6/30\, 7/21\, 8/18 (10:00AM   12:00PM) 7/12\, 8/30 (6:00PM   8:00PM) Rhinebeck\, NY Rhinebeck CareMount Medical Office (6734 Route 9 Rhinebeck\, NY 12572) 7/12\, 8/16 (10:00AM   12:00PM)
X-ALT-DESC;FMTTYPE=text/html:CareMount Medical will be hosting free\, educational Medicare meetings throughout the Hudson Valley. Each seminar will discuss the basics of Medicare and your coverage options. If you need help understanding your Medicare options\, come join us at a meeting. You&rsquo\;ll learn about the choices you have such as: &bull\; Medicare Prescription Drug Plans &bull\; Original Medicare &bull\; Medicare Supplement Plans &bull\; Medicare Advantage Plans Call today any time between 8:30AM to 5:00PM in your local time zone (TTY users call 711) Monday &ndash\; Friday to reserve your seat: 1-844-879-4369. Fishkill\, NY Fishkill Courtyard (17 Westage Drive Fishkill\, NY 12524) 6/28\, 7/14\, 8/18 (10:00AM &ndash\; 12:00PM) Poughkeepsie\, NY Poughkeepsie Hampton Inn &amp\; Suites (2361 South Road Poughkeepsie\, NY 12601) 6/30\, 7/21\, 8/18 (10:00AM &ndash\; 12:00PM) 7/12\, 8/30 (6:00PM &ndash\; 8:00PM) Rhinebeck\, NY Rhinebeck CareMount Medical Office (6734 Route 9 Rhinebeck\, NY 12572) 7/12\, 8/16 (10:00AM &ndash\; 12:00PM)
LOCATION:Poughkeepsie\, NY Poughkeepsie Hampton Inn & Suites (2361 South Road Poughkeepsie\, NY 12601)
UID:e.2770.10479273
SEQUENCE:3
DTSTAMP:20260425T144652Z
URL:https://business.dcrcoc.org/events/details/caremount-medical-hosts-free-educational-medicare-meetings-08-30-2018-10479273
END:VEVENT

END:VCALENDAR
