BEGIN:VCALENDAR
VERSION:2.0
PRODID:-//ChamberMaster//Event Calendar 2.0//EN
METHOD:PUBLISH
X-PUBLISHED-TTL:P3D
REFRESH-INTERVAL:P3D
CALSCALE:GREGORIAN
BEGIN:VEVENT
DTSTART:20181011T140000Z
DTEND:20181011T160000Z
X-MICROSOFT-CDO-ALLDAYEVENT:FALSE
SUMMARY:CareMount Medical Hosts Free Educational Medicare Meetings
DESCRIPTION:CareMount Medical has partnered with Medicare.com to help patients find the Medicare coverage that best meets their individual needs. CareMount Medical will be hosting free\, educational Medicare meetings throughout Dutchess County October 11th through December 4th (all meetings begin at 10:00AM). Each seminar will discuss the basics of Medicare and your coverage options. If you need help understanding your Medicare options\, come join us at a meeting. You'll learn about the choices you have such as:   Medicare Prescription Drug Plans   Original Medicare   Medicare Supplement Insurance Plans   Medicare Advantage Plans Call today any time between 8:30AM to 4:30PM in your local time zone (TTY users call 711) Monday   Friday to reserve your seat: 1-800-894-6422.
X-ALT-DESC;FMTTYPE=text/html:CareMount Medical has partnered with Medicare.com to help patients find the Medicare coverage that best meets their individual needs. CareMount Medical will be hosting free\, educational Medicare meetings throughout Dutchess County October 11th through December 4th (all meetings begin at 10:00AM). Each seminar will discuss the basics of Medicare and your coverage options. If you need help understanding your Medicare options\, come join us at a meeting. You&rsquo\;ll learn about the choices you have such as: &bull\; Medicare Prescription Drug Plans &bull\; Original Medicare &bull\; Medicare Supplement Insurance Plans &bull\; Medicare Advantage Plans Call today any time between 8:30AM to 4:30PM in your local time zone (TTY users call 711) Monday &ndash\; Friday to reserve your seat: 1-800-894-6422.
LOCATION:
UID:e.2770.10479749
SEQUENCE:3
DTSTAMP:20260425T115510Z
URL:https://business.dcrcoc.org/events/details/caremount-medical-hosts-free-educational-medicare-meetings-10-11-2018-10479749
END:VEVENT

END:VCALENDAR
