BEGIN:VCALENDAR
VERSION:2.0
PRODID:-//ChamberMaster//Event Calendar 2.0//EN
METHOD:PUBLISH
X-PUBLISHED-TTL:P3D
REFRESH-INTERVAL:P3D
CALSCALE:GREGORIAN
BEGIN:VEVENT
DTSTART:20180414T140000Z
DTEND:20180414T160000Z
X-MICROSOFT-CDO-ALLDAYEVENT:FALSE
SUMMARY:CareMount Medical Hosts Free Educational Medicare Meetings
DESCRIPTION:CareMount Medical will be hosting free\, educational Medicare meetings throughout the Hudson Valley March 15th through May 31st. Each seminar will discuss the basics of Medicare and your coverage options. If you need help understanding your Medicare options\, come join us at a meeting. You'll learn about the choices you have such as:   Medicare Prescription Drug Plans   Original Medicare   Medicare Supplement Plans   Medicare Advantage Plans Call today any time between 8:30AM to 5:00PM in your local time zone (TTY users call 711) Monday   Friday to reserve your seat: 1-844-879-4369. Carmel\, NY Nelson's Tavern at Centennial Golf Club (185 John Simpson Road Carmel\, NY 10512) 3/15\, 3/24\, 4/14\, 4/19\, 5/10\, 5/19\, 5/31 (10:00AM   12:00PM) Fishkill\, NY Fishkill Courtyard (17 Westage Drive Fishkill\, NY 12524) 3/20\, 4/14\, 4/24\, 5/15\, 5/31 (10:00AM   12:00PM) Lake Katrine\, NY Kingston CareMount Medical Office (1561 Ulster Avenue Lake Katrine\, NY 12449) 3/15\, 4/17\, 5/15 (10:00AM   12:00PM) Mount Kisco\, NY Mount Kisco Holiday Inn (One Holiday Inn Drive Mt Kisco\, NY 10549) 3/24\, 4/14\, 4/17\, 5/19\, 5/31 (10:00AM   12:00PM) 3/20\, 4/24\, 5/22 (6:00PM   8:00PM) Poughkeepsie\, NY Poughkeepsie Hampton Inn & Suites (2361 South Road Poughkeepsie\, NY 12601) 3/15\, 3/24\, 4/14\, 4/19\, 5/10\, 5/19 (10:00AM   12:00PM) 3/20\, 4/24\, 5/22 (6:00PM   8:00PM) Rhinebeck\, NY Rhinebeck CareMount Medical Office (6734 Route 9 Rhinebeck\, NY 12572) 3/20\, 4/24\, 5/31 (10:00AM   12:00PM) Yorktown Heights\, NY Yorktown Heights Elks Lodge (590 Waverly Road Yorktown Heights\, NY 10598) 3/15\, 4/19\, 5/10 (10:00AM   12:00PM)
X-ALT-DESC;FMTTYPE=text/html:CareMount Medical will be hosting free\, educational Medicare meetings throughout the Hudson Valley March 15th through May 31st. Each seminar will discuss the basics of Medicare and your coverage options. If you need help understanding your Medicare options\, come join us at a meeting. You&rsquo\;ll learn about the choices you have such as: &bull\; Medicare Prescription Drug Plans &bull\; Original Medicare &bull\; Medicare Supplement Plans &bull\; Medicare Advantage Plans Call today any time between 8:30AM to 5:00PM in your local time zone (TTY users call 711) Monday &ndash\; Friday to reserve your seat: 1-844-879-4369. Carmel\, NY Nelson&rsquo\;s Tavern at Centennial Golf Club (185 John Simpson Road Carmel\, NY 10512) 3/15\, 3/24\, 4/14\, 4/19\, 5/10\, 5/19\, 5/31 (10:00AM &ndash\; 12:00PM) Fishkill\, NY Fishkill Courtyard (17 Westage Drive Fishkill\, NY 12524) 3/20\, 4/14\, 4/24\, 5/15\, 5/31 (10:00AM &ndash\; 12:00PM) Lake Katrine\, NY Kingston CareMount Medical Office (1561 Ulster Avenue Lake Katrine\, NY 12449) 3/15\, 4/17\, 5/15 (10:00AM &ndash\; 12:00PM) Mount Kisco\, NY Mount Kisco Holiday Inn (One Holiday Inn Drive Mt Kisco\, NY 10549) 3/24\, 4/14\, 4/17\, 5/19\, 5/31 (10:00AM &ndash\; 12:00PM) 3/20\, 4/24\, 5/22 (6:00PM &ndash\; 8:00PM) Poughkeepsie\, NY Poughkeepsie Hampton Inn &amp\; Suites (2361 South Road Poughkeepsie\, NY 12601) 3/15\, 3/24\, 4/14\, 4/19\, 5/10\, 5/19 (10:00AM &ndash\; 12:00PM) 3/20\, 4/24\, 5/22 (6:00PM &ndash\; 8:00PM) Rhinebeck\, NY Rhinebeck CareMount Medical Office (6734 Route 9 Rhinebeck\, NY 12572) 3/20\, 4/24\, 5/31 (10:00AM &ndash\; 12:00PM) Yorktown Heights\, NY Yorktown Heights Elks Lodge (590 Waverly Road Yorktown Heights\, NY 10598) 3/15\, 4/19\, 5/10 (10:00AM &ndash\; 12:00PM)
LOCATION:Fishkill Courtyard (17 Westage Drive Fishkill\, NY 12524)
UID:e.2770.10477146
SEQUENCE:3
DTSTAMP:20260425T195250Z
URL:https://business.dcrcoc.org/events/details/caremount-medical-hosts-free-educational-medicare-meetings-10477146
END:VEVENT

END:VCALENDAR
