BEGIN:VCALENDAR
VERSION:2.0
PRODID:-//ChamberMaster//Event Calendar 2.0//EN
METHOD:PUBLISH
X-PUBLISHED-TTL:P3D
REFRESH-INTERVAL:P3D
CALSCALE:GREGORIAN
BEGIN:VEVENT
DTSTART:20201201T130000Z
DTEND:20201204T223000Z
X-MICROSOFT-CDO-ALLDAYEVENT:FALSE
SUMMARY:CareMount Medical’s Walk-In Flu Clinics
DESCRIPTION:Help prevent a flu outbreak by getting vaccinated! With the flu season approaching and the possibility of a re-emergence of COVID-19 in the fall\, it is more important than ever to protect yourself against the flu\, and that means getting an annual preventative flu vaccine. Any adult or pediatric patient who has seen a CareMount provider in the past two years may WALK-IN to the flu clinic locations noted below to receive the seasonal flu vaccine. No appointment necessary. Flu mist is NOT available for walk-in patients. Flu mist will be available in limited quantities for pediatric patients   please call your provider's office for more information. The Flu Clinic will be CLOSED on Thursday\, November 26th (Thanksgiving Day).\n\n\n\nFor more information on what to expect and additional locations\, please visit: https://www.caremountmedical.com/patient-resources/flu-vaccine-program-information/ \n\n\n\nClinic Hotline: 845-765-4970
X-ALT-DESC;FMTTYPE=text/html:Help prevent a flu outbreak by getting vaccinated! With the flu season approaching and the possibility of a re-emergence of COVID-19 in the fall\, it is more important than ever to protect yourself against the flu\, and that means getting an annual preventative flu vaccine. Any adult or pediatric patient who has seen a CareMount provider in the past two years may WALK-IN to the flu clinic locations noted below to receive the seasonal flu vaccine. No appointment necessary. Flu mist is NOT available for walk-in patients. Flu mist will be available in limited quantities for pediatric patients &ndash\; please call your provider&rsquo\;s office for more information. The Flu Clinic will be CLOSED on Thursday\, November 26th (Thanksgiving Day).<br />\n<br />\nFor more information on what to expect and additional locations\, please visit: <a href="https://www.caremountmedical.com/patient-resources/flu-vaccine-program-information/" target="_blank"><span style="color:#0000FF\;">https://www.caremountmedical.com/patient-resources/flu-vaccine-program-information/ </span></a><br />\n<br />\nClinic Hotline: 845-765-4970
LOCATION:- Fishkill Merritt: 60 Merritt Boulevard\, Fishkill\, NY 12524 (1st Floor\, former Toll Brothers space) - Poughkeepsie Oakwood Campus: Oakwood Commons\, 2515 South Road\, Poughkeepsie\, NY 12601 (former Key Bank Building) - Rhinebeck Campus: 6734 Route 9\, Rhinebeck\, NY 12572 (Rear Entrance. Note: for Handicap Access\, use Front Entrance)
UID:e.2770.10484467
SEQUENCE:3
DTSTAMP:20260421T194327Z
URL:https://business.dcrcoc.org/events/details/caremount-medical-s-walk-in-flu-clinics-10484467
END:VEVENT

END:VCALENDAR
