BEGIN:VCALENDAR
VERSION:2.0
PRODID:-//ChamberMaster//Event Calendar 2.0//EN
METHOD:PUBLISH
X-PUBLISHED-TTL:P3D
REFRESH-INTERVAL:P3D
CALSCALE:GREGORIAN
BEGIN:VEVENT
DTSTART:20180322T180000Z
DTEND:20180322T220000Z
X-MICROSOFT-CDO-ALLDAYEVENT:FALSE
SUMMARY:CareMount Medical to Host Career Fair March 22nd
DESCRIPTION:CareMount Medical P.C.\, the largest independent multi-specialty medical group in New York State\, will host a Career Fair on Thursday\, March 22nd from 2:00 p.m. to 6:00 p.m. at the Holiday Inn Mount Kisco\, located at 1 Holiday Inn Drive\, Mount Kisco\, NY 10549. Clinical and non-clinical opportunities are available for those interested in full-time\, part-time and per diem work at CareMount Medical's locations in Westchester\, Putnam\, Dutchess\, Columbia and Ulster counties. Candidates should bring copies of their r sum  to the fair for an immediate interview. If unable to attend\, r sum s may be submitted to hrresumes@cmmedical.com. Positions to be filled include: Non-Clinical:   Analysts   Payroll Professionals   Contact Center Agents   Administrative Support   Insurance Pre-certification and Verification   Medical Records   Charge Capture Specialists   Certified Medical Billers and Coders (CPC)   HCC Coders   Accounting / Finance / Payroll   Information Technology   Learning Services   Corporate Training Clinical (Multiple Specialties):   Certified Medical Assistants   Licensed Practical Nurses   Registered Nurses   Nurse Managers   Physicians   Physician Assistants   Nurse Practitioners   Certified Midwives   Certified Registered Nurse Anesthetists   Technologists: X-Ray\, Mammography\, Ultra Sound\, MRI   EEG Technicians   Certified Ophthalmic Assistants / Technicians   Laboratory Technicians   Phlebotomists For more information on the career fair\, go to: www.caremountmedical.com/careerfair. To learn more about all of CareMount Medical's career opportunities\, go to: www.caremountmedical.com/careers. About CareMount Medical: CareMount Medical\, P.C. is the largest independent multispecialty medical group in New York State\, providing comprehensive medical care of the highest quality to 550\,000 patients in more than 40 locations throughout Westchester\, Putnam\, Dutchess\, Columbia\, and Ulster counties. Founded in 1946 as Mount Kisco Medical Group\, CareMount has grown to approximately 525 physicians and advanced practice professionals representing more than 40 different medical specialties. CareMount is affiliated with world-class organizations including Massachusetts General Hospital\, Mount Sinai Health System\, and Memorial Sloan Kettering Cancer Center. CareMount offers on-site laboratory and radiology services\, endoscopy and infusion suites\, and operates eight urgent-care centers. Our physicians are frequently recognized as best doctors in respected publications and have been featured in lists including New York Magazine's "Best Doctors\," Westchester and Hudson Valley Magazine's "Top Doctors" as well as in Castle Connolly Medical's "Top Doctors." For additional information about CareMount Medical and its specialties\, please visit: www.caremountmedical.com. CareMount Medical is a registered service mark of CareMount Medical P.C.
X-ALT-DESC;FMTTYPE=text/html:CareMount Medical P.C.\, the largest independent multi-specialty medical group in New York State\, will host a Career Fair on Thursday\, March 22nd from 2:00 p.m. to 6:00 p.m. at the Holiday Inn Mount Kisco\, located at 1 Holiday Inn Drive\, Mount Kisco\, NY 10549. Clinical and non-clinical opportunities are available for those interested in full-time\, part-time and per diem work at CareMount Medical&rsquo\;s locations in Westchester\, Putnam\, Dutchess\, Columbia and Ulster counties. Candidates should bring copies of their r&eacute\;sum&eacute\; to the fair for an immediate interview. If unable to attend\, r&eacute\;sum&eacute\;s may be submitted to hrresumes@cmmedical.com. Positions to be filled include: Non-Clinical: &bull\; Analysts &bull\; Payroll Professionals &bull\; Contact Center Agents &bull\; Administrative Support &bull\; Insurance Pre-certification and Verification &bull\; Medical Records &bull\; Charge Capture Specialists &bull\; Certified Medical Billers and Coders (CPC) &bull\; HCC Coders &bull\; Accounting / Finance / Payroll &bull\; Information Technology &bull\; Learning Services &ndash\; Corporate Training Clinical (Multiple Specialties): &bull\; Certified Medical Assistants &bull\; Licensed Practical Nurses &bull\; Registered Nurses &bull\; Nurse Managers &bull\; Physicians &bull\; Physician Assistants &bull\; Nurse Practitioners &bull\; Certified Midwives &bull\; Certified Registered Nurse Anesthetists &bull\; Technologists: X-Ray\, Mammography\, Ultra Sound\, MRI &bull\; EEG Technicians &bull\; Certified Ophthalmic Assistants / Technicians &bull\; Laboratory Technicians &bull\; Phlebotomists For more information on the career fair\, go to: www.caremountmedical.com/careerfair. To learn more about all of CareMount Medical&rsquo\;s career opportunities\, go to: www.caremountmedical.com/careers. About CareMount Medical: CareMount Medical\, P.C. is the largest independent multispecialty medical group in New York State\, providing comprehensive medical care of the highest quality to 550\,000 patients in more than 40 locations throughout Westchester\, Putnam\, Dutchess\, Columbia\, and Ulster counties. Founded in 1946 as Mount Kisco Medical Group\, CareMount has grown to approximately 525 physicians and advanced practice professionals representing more than 40 different medical specialties. CareMount is affiliated with world-class organizations including Massachusetts General Hospital\, Mount Sinai Health System\, and Memorial Sloan Kettering Cancer Center. CareMount offers on-site laboratory and radiology services\, endoscopy and infusion suites\, and operates eight urgent-care centers. Our physicians are frequently recognized as best doctors in respected publications and have been featured in lists including New York Magazine&rsquo\;s &ldquo\;Best Doctors\,&rdquo\; Westchester and Hudson Valley Magazine&rsquo\;s &ldquo\;Top Doctors&rdquo\; as well as in Castle Connolly Medical&rsquo\;s &ldquo\;Top Doctors.&rdquo\; For additional information about CareMount Medical and its specialties\, please visit: www.caremountmedical.com. CareMount Medical is a registered service mark of CareMount Medical P.C.
LOCATION:Holiday Inn Mount Kisco\, located at 1 Holiday Inn Drive\, Mount Kisco\, NY 10549
UID:e.2770.10476871
SEQUENCE:3
DTSTAMP:20260425T210648Z
URL:https://business.dcrcoc.org/events/details/caremount-medical-to-host-career-fair-march-22nd-10476871
END:VEVENT

END:VCALENDAR
