BEGIN:VCALENDAR
VERSION:2.0
PRODID:-//ChamberMaster//Event Calendar 2.0//EN
METHOD:PUBLISH
X-PUBLISHED-TTL:P3D
REFRESH-INTERVAL:P3D
CALSCALE:GREGORIAN
BEGIN:VEVENT
DTSTART:20171221T220000Z
DTEND:20171222T000000Z
X-MICROSOFT-CDO-ALLDAYEVENT:FALSE
SUMMARY:Caroling at The Pines of Poughkeepsie
DESCRIPTION:During this festive evening\, designed for Workforce Connections and Youth One Stop participants\, we will sing holiday songs together at The Pines of Poughkeepsie and hand out the cards and pipe-cleaner canes created the previous week.  We will have song books ready for our carolers.  We will be leaving from the Chamber office at 5:00 pm.\n\n\n\nRegistration required. For more information and to RSVP\, contact Meredith Madden\, (845) 454-1700\, ext. 1002.
X-ALT-DESC;FMTTYPE=text/html:<span style="color: rgb(51\, 51\, 51)\; font-family: sans-serif\, Arial\, Verdana\, &quot\;Trebuchet MS&quot\;\; font-size: 13px\; background-color: rgb(255\, 255\, 255)\;">During this festive evening\, designed for Workforce Connections and Youth One Stop participants\, we will sing holiday songs together at The Pines of Poughkeepsie and hand out the cards and pipe-cleaner canes created the previous week.&nbsp\; We will have song books ready for our carolers.&nbsp\; We will be leaving from the Chamber office at 5:00 pm.</span><br />\n<br />\nRegistration required. For more information and to RSVP\, contact Meredith Madden\, (845) 454-1700\, ext. 1002.
LOCATION:Dutchess County Regional Chamber of Commerce Workforce Connections Office 1 Civic Center Plaza Poughkeepsie\, NY 12601
UID:e.2770.10476616
SEQUENCE:3
DTSTAMP:20260426T005213Z
URL:https://business.dcrcoc.org/events/details/caroling-at-the-pines-of-poughkeepsie-10476616
END:VEVENT

END:VCALENDAR
