BEGIN:VCALENDAR
VERSION:2.0
PRODID:-//ChamberMaster//Event Calendar 2.0//EN
METHOD:PUBLISH
X-PUBLISHED-TTL:P3D
REFRESH-INTERVAL:P3D
CALSCALE:GREGORIAN
BEGIN:VEVENT
DTSTART:20190909T220000Z
DTEND:20190909T233000Z
X-MICROSOFT-CDO-ALLDAYEVENT:FALSE
SUMMARY:Carpenters Apprenticeship Information Session
DESCRIPTION:Come learn about a rewarding and satisfying career with high potential and ZERO college debt.\n\n\n\nAs a union carpenter:\n\n	You earn a good wage \n	You receive good benefits\; health insurance\, an annuity and a pension\n	You have the opportunity to be a good provider for your family\n	You earn as you learn   you even get paid to be in the apprenticeship program\n\nPlease join us for an information session on the New England Regional Council of Carpenters Apprenticeship Program and learn how you can fulfil a career with the Carpenters Union.
X-ALT-DESC;FMTTYPE=text/html:<span style="font-family:helvetica\,arial\,sans-serif\; font-size:14px">Come learn about a rewarding and satisf</span><span style="font-family:helvetica\,arial\,sans-serif\; font-size:14px">ying career with high potential and ZERO college debt.</span><br />\n<br />\n<span style="font-size:12px">As a <strong>union carpenter</strong>:</span>\n<ul>\n	<li><span style="font-size:12px">You earn a good wage </span></li>\n	<li><span style="font-size:12px">You receive good benefits\; health insurance\, an annuity and a pension</span></li>\n	<li><span style="font-size:12px">You have the opportunity to be a good provider for your family</span></li>\n	<li><span style="font-size:12px">You earn as you learn &ndash\; you even get paid to be in the apprenticeship program</span></li>\n</ul>\n<span style="font-family:helvetica\,arial\,sans-serif\; font-size:14px">Please join us </span><span style="color:rgb(28\, 30\, 33)\; font-family:helvetica\,arial\,sans-serif\; font-size:14px">for an information session on the New England Regional Council of Carpenters Apprenticeship Program and learn how you can fulfil a career with the Carpenters Union.&nbsp\;</span><br />\n&nbsp\;
LOCATION:10 Corporate Park Drive\, Hopewell Junction\, NY 12533.
UID:e.2770.10481031
SEQUENCE:3
DTSTAMP:20260422T215459Z
URL:https://business.dcrcoc.org/events/details/carpenters-apprenticeship-information-session-10481031
END:VEVENT

END:VCALENDAR
