BEGIN:VCALENDAR
VERSION:2.0
PRODID:-//ChamberMaster//Event Calendar 2.0//EN
METHOD:PUBLISH
X-PUBLISHED-TTL:P3D
REFRESH-INTERVAL:P3D
CALSCALE:GREGORIAN
BEGIN:VEVENT
DTSTART:20200106T230000Z
DTEND:20200107T000000Z
X-MICROSOFT-CDO-ALLDAYEVENT:FALSE
SUMMARY:Carpentry Apprenticeship Information Session
DESCRIPTION:Interested in learning more about our carpentry apprenticeship program? Come attend our Carpentry Apprenticeship Information Session. This is your first step for a great opportunity to join the carpenters union. Our apprentices receive hands-on training with the latest technology\, gaining skills and insights that will make them the BEST candidates for future employment\; all while earning a paycheck as they learn\, getting healthcare benefits and retirement security!
X-ALT-DESC;FMTTYPE=text/html:Interested in learning more about our carpentry apprenticeship program? Come attend our Carpentry Apprenticeship Information Session. This is your first step for a great opportunity to join the carpenters union. Our apprentices receive hands-on training with the latest technology\, gaining skills and insights that will make them the BEST candidates for future employment\; all while earning a paycheck as they learn\, getting healthcare benefits and retirement security!
LOCATION:10 Corporate Park Drive\, Hopewell Junction\, NY 12533
UID:e.2770.10482625
SEQUENCE:3
DTSTAMP:20260422T150342Z
URL:https://business.dcrcoc.org/events/details/carpentry-apprenticeship-information-session-10482625
END:VEVENT

END:VCALENDAR
