BEGIN:VCALENDAR
VERSION:2.0
PRODID:-//ChamberMaster//Event Calendar 2.0//EN
METHOD:PUBLISH
X-PUBLISHED-TTL:P3D
REFRESH-INTERVAL:P3D
CALSCALE:GREGORIAN
BEGIN:VEVENT
DTSTART:20180426T230000Z
DTEND:20180427T020000Z
X-MICROSOFT-CDO-ALLDAYEVENT:FALSE
SUMMARY:Casting Crowns Tour - Mid-Hudson Civic Center
DESCRIPTION:Casting Crowns The Very Next Thing Tour Thursday\, April 26\, 2018 7:00pm With over 8.8 million albums sold to date including one RIAA Double Platinum Album four Platinum and six Gold records and two Platinum and four Gold DVD. CASTING CROWNS remains the top selling act in Christian music since 2007. Do not miss the multi award winning sensations right here in Poughkeepsie LIVE in Concert on April 26th! Joining the The Very Next Thing Tour is special guest I AM THEY whose five piece pop acoustic worship sound has been winning over crowds of fans since their national debut in 2015. Public Onsale: Friday\, February 16\, 2018 at 10:00 AM Presale: Wednesday\, February 14\, 2018 at 10:00 AM
X-ALT-DESC;FMTTYPE=text/html:Casting Crowns The Very Next Thing Tour Thursday\, April 26\, 2018 7:00pm With over 8.8 million albums sold to date including one RIAA Double Platinum Album four Platinum and six Gold records and two Platinum and four Gold DVD. CASTING CROWNS remains the top selling act in Christian music since 2007. Do not miss the multi award winning sensations right here in Poughkeepsie LIVE in Concert on April 26th! Joining the The Very Next Thing Tour is special guest I AM THEY whose five piece pop acoustic worship sound has been winning over crowds of fans since their national debut in 2015. Public Onsale: Friday\, February 16\, 2018 at 10:00 AM Presale: Wednesday\, February 14\, 2018 at 10:00 AM
LOCATION:Mid-Hudson Civic Center 14 Civic Center Plaza poughkeepsie\, NY 12601
UID:e.2770.10476801
SEQUENCE:3
DTSTAMP:20260425T210523Z
URL:https://business.dcrcoc.org/events/details/casting-crowns-tour-mid-hudson-civic-center-10476801
END:VEVENT

END:VCALENDAR
