BEGIN:VCALENDAR
VERSION:2.0
PRODID:-//ChamberMaster//Event Calendar 2.0//EN
METHOD:PUBLISH
X-PUBLISHED-TTL:P3D
REFRESH-INTERVAL:P3D
CALSCALE:GREGORIAN
BEGIN:VEVENT
DTSTART:20180217T013000Z
DTEND:20180217T043000Z
X-MICROSOFT-CDO-ALLDAYEVENT:FALSE
SUMMARY:Ceesar Classic Rock & Roll Show at The Alley Kat!
DESCRIPTION:Join us for the Ceesar Classic Rock & Roll Show! Great food\, impressive selection of craft beer\, mixed drinks and all your favorite classic rock tunes!\nCheck out the event details on our Facebook page:\n\nCeesar Classic Rock & Roll Show at The Alley Kat!
X-ALT-DESC;FMTTYPE=text/html:<p><span style="color:rgb(75\, 79\, 86)\; font-family:system-ui\,-apple-system\,blinkmacsystemfont\,.sfnstext-regular\,sans-serif\; font-size:14px">Join us for the Ceesar Classic Rock &amp\; Roll Show! Great food\, impressive selection of craft beer\, mixed drinks and all your favorite classic rock tunes!</span></p>\nCheck out the event details on our Facebook page:<br />\n<a href="https://www.facebook.com/events/183821549035492/">Ceesar Classic Rock &amp\; Roll Show at The Alley Kat!</a><br />\n&nbsp\;
LOCATION:The Alley Kat 1677 US 9 Wappingers Falls\, New York\, NY 12590
UID:e.2770.10476761
SEQUENCE:3
DTSTAMP:20260425T222444Z
URL:https://business.dcrcoc.org/events/details/ceesar-classic-rock-roll-show-at-the-alley-kat-02-16-2018-10476761
END:VEVENT

END:VCALENDAR
