BEGIN:VCALENDAR
VERSION:2.0
PRODID:-//ChamberMaster//Event Calendar 2.0//EN
METHOD:PUBLISH
X-PUBLISHED-TTL:P3D
REFRESH-INTERVAL:P3D
CALSCALE:GREGORIAN
BEGIN:VEVENT
DTSTART:20180407T003000Z
DTEND:20180407T033000Z
X-MICROSOFT-CDO-ALLDAYEVENT:FALSE
SUMMARY:Ceesar - Classic Rock & Roll Show at The Alley Kat
DESCRIPTION:Join us for the Ceesar Classic Rock& Roll Show! Great food\, impressive selection of craft beer\, mixed drinks and all your favorite classic rock tunes!\n\n\n\nCheck out the event details on our Facebook page:\n\nCeesar - Classic Rock & Roll Show at the Alley Kat!
X-ALT-DESC;FMTTYPE=text/html:<span style="color:rgb(75\, 79\, 86)\; font-family:sf optimized\,system-ui\,-apple-system\,blinkmacsystemfont\,.sfnstext-regular\,sans-serif\; font-size:14px">Join us for the Ceesar Classic Rock&amp\; Roll Show! Great food\, impressive selection of craft beer\, mixed drinks and all your favorite classic rock tunes!</span><br />\n<br />\nCheck out the event details on our Facebook page:<br />\n<a href="https://www.facebook.com/events/165890097562523/">Ceesar - Classic Rock &amp\; Roll Show at the Alley Kat!&nbsp\;</a>\n<h1>&nbsp\;</h1>\n
LOCATION:The Alley Kat 1677 US 9 Wappingers Falls\, New York\, NY 12590
UID:e.2770.10477190
SEQUENCE:3
DTSTAMP:20260425T195235Z
URL:https://business.dcrcoc.org/events/details/ceesar-classic-rock-roll-show-at-the-alley-kat-04-06-2018-10477190
END:VEVENT

END:VCALENDAR
