BEGIN:VCALENDAR
VERSION:2.0
PRODID:-//ChamberMaster//Event Calendar 2.0//EN
METHOD:PUBLISH
X-PUBLISHED-TTL:P3D
REFRESH-INTERVAL:P3D
CALSCALE:GREGORIAN
BEGIN:VEVENT
DTSTART:20171007T003000Z
DTEND:20171007T033000Z
X-MICROSOFT-CDO-ALLDAYEVENT:FALSE
SUMMARY:Ceesar - Classic Rock & Roll Show at The Alley Kat
DESCRIPTION:Join us for the Ceesar Classic Rock& Roll Show! Great food\, impressive selection of craft beer\, mixed drinks and all your favorite classic rock tunes!\n\n\n\nCheck out the event details on our Facebook page:\n\nCeesar - Classic Rock & Roll Show at the Alley Kat!
X-ALT-DESC;FMTTYPE=text/html:<span style="color:rgb(75\, 79\, 86)\; font-family:sf optimized\,system-ui\,-apple-system\,blinkmacsystemfont\,.sfnstext-regular\,sans-serif\; font-size:14px">Join us for the Ceesar Classic Rock&amp\; Roll Show! Great food\, impressive selection of craft beer\, mixed drinks and all your favorite classic rock tunes!</span><br />\n<br />\nCheck out the event details on our Facebook page:<br />\n<a href="https://www.facebook.com/events/1199680433469654/?acontext=%7B%22source%22%3A5%2C%22page_id_source%22%3A1126955354040531%2C%22action_history%22%3A[%7B%22surface%22%3A%22page%22%2C%22mechanism%22%3A%22main_list%22%2C%22extra_data%22%3A%22%7B%5C%22page_id%5C%22%3A1126955354040531%2C%5C%22tour_id%5C%22%3Anull%7D%22%7D]%2C%22has_source%22%3Atrue%7D">Ceesar - Classic Rock &amp\; Roll Show at the Alley Kat!&nbsp\;</a>\n\n<h1>&nbsp\;</h1>\n
LOCATION:The Alley Kat 1677 US 9 Wappingers Falls\, New York\, NY 12590
UID:e.2770.10476321
SEQUENCE:3
DTSTAMP:20260426T033527Z
URL:https://business.dcrcoc.org/events/details/ceesar-classic-rock-roll-show-at-the-alley-kat-10-06-2017-10476321
END:VEVENT

END:VCALENDAR
