BEGIN:VCALENDAR
VERSION:2.0
PRODID:-//ChamberMaster//Event Calendar 2.0//EN
METHOD:PUBLISH
X-PUBLISHED-TTL:P3D
REFRESH-INTERVAL:P3D
CALSCALE:GREGORIAN
BEGIN:VEVENT
DTSTART:20171202T013000Z
DTEND:20171202T040000Z
X-MICROSOFT-CDO-ALLDAYEVENT:FALSE
SUMMARY:Ceesar - Classic Rock & Roll Show at The Alley Kat!
DESCRIPTION:Join us for the Ceesar Classic Rock & Roll Show! These talented musicians are the best in the area and cover all your favorite rock artists like Zepplin\, Bowie\, Pink Floyd\, The Eagles\, Jethro Tull\, Steely Dan\, The Beatles & Tom Petty to name a few!\n\n\n\nThe Alley Kat offers great food\, an impressive selection of craft beer\, mixed drinks and all your favorite classic rock tunes with The Ceesar Band this Friday night!\n\n\n\nCheck out the event details on our Facebook page:\n\nCeesar - Classic Rock & Roll Show at The Alley Kat!
X-ALT-DESC;FMTTYPE=text/html:<span style="color:rgb(75\, 79\, 86)\; font-family:system-ui\,-apple-system\,blinkmacsystemfont\,.sfnstext-regular\,sans-serif\; font-size:14px">Join us for the Ceesar Classic Rock &amp\; Roll Show! These talented musicians are the best in the area and cover all your favorite rock artists like Zepplin\, Bowie\, Pink Floyd\, The Eagles\, Jethro Tull\, Steely Dan\, The Beatles &amp\; Tom Petty to name a few!</span><br />\n<br />\n<span style="color:rgb(75\, 79\, 86)\; font-family:system-ui\,-apple-system\,blinkmacsystemfont\,.sfnstext-regular\,sans-serif\; font-size:14px">The Alley Kat offers great food\, an impressive selection of craft beer\, mixed drinks and all your favorite classic rock tunes with The Ceesar Band this Friday night!</span><br />\n<br />\nCheck out the event details on our Facebook page:<br />\n<a href="https://www.facebook.com/events/327765407701597/">Ceesar - Classic Rock &amp\; Roll Show at The Alley Kat!</a>
LOCATION:The Alley Kat 1677 US 9 Wappingers Falls\, New York\, NY 12590
UID:e.2770.10476625
SEQUENCE:3
DTSTAMP:20260426T005213Z
URL:https://business.dcrcoc.org/events/details/ceesar-classic-rock-roll-show-at-the-alley-kat-12-01-2017-10476625
END:VEVENT

END:VCALENDAR
