BEGIN:VCALENDAR
VERSION:2.0
PRODID:-//ChamberMaster//Event Calendar 2.0//EN
METHOD:PUBLISH
X-PUBLISHED-TTL:P3D
REFRESH-INTERVAL:P3D
CALSCALE:GREGORIAN
BEGIN:VEVENT
DTSTART:20180804T003000Z
DTEND:20180804T030000Z
X-MICROSOFT-CDO-ALLDAYEVENT:FALSE
SUMMARY:Ceesar Classic Rock Takes Over The Alley Kat!
DESCRIPTION:It's the summer\, it's the beginning of August\, it's George's birthday\, and Ceesar is playing. Which means it's going to be a night filled with music and friends at a great place. Bring everybody and let's have a party.\n\n\n\nCheck out the event details on our Facebook page:\n\nCeesar Classic Rock Takes Over The Alley Kat!
X-ALT-DESC;FMTTYPE=text/html:<span style="color:rgb(29\, 33\, 41)\; font-family:system-ui\,-apple-system\,blinkmacsystemfont\,.sfnstext-regular\,sans-serif\; font-size:14px">It&#39\;s the summer\, it&#39\;s the beginning of August\, it&#39\;s George&#39\;s birthday\, and Ceesar is playing. Which means it&#39\;s going to be a night filled with music and friends at a great place. Bring everybody and let&#39\;s have a party.</span><br />\n<br />\nCheck out the event details on our Facebook page:<br />\n<a href="https://www.facebook.com/events/231853380796905/">Ceesar Classic Rock Takes Over The Alley Kat!</a>
LOCATION:The Alley Kat 1677 US 9 Wappingers Falls\, New York\, NY 12590
UID:e.2770.10479426
SEQUENCE:3
DTSTAMP:20260425T144356Z
URL:https://business.dcrcoc.org/events/details/ceesar-classic-rock-takes-over-the-alley-kat-10479426
END:VEVENT

END:VCALENDAR
