BEGIN:VCALENDAR
VERSION:2.0
PRODID:-//ChamberMaster//Event Calendar 2.0//EN
METHOD:PUBLISH
X-PUBLISHED-TTL:P3D
REFRESH-INTERVAL:P3D
CALSCALE:GREGORIAN
BEGIN:VEVENT
DTSTART:20210309T170000Z
DTEND:20210309T183000Z
X-MICROSOFT-CDO-ALLDAYEVENT:FALSE
SUMMARY:Chamber Network\, Present & Refer
DESCRIPTION:The Chamber presents a Network\, Present & Refer event on Tuesday\, March 9th at 12 noon. Chamber members from all categories will be able to present for 2 minutes to a collection of 25 members - describing their business or organization\, and who a good referral source is for them. Attendees are limited to one per organization and one per industry.\n\n\n\nThis event will be held on Zoom and In Person\, participants have the option.\n\n\n\nRegistration is required and will need to be approved to ensure industry exclusivity.\n\nOther similar events will be scheduled later.\n\n\n\nInterested in registering? Please email jgalow@dcrcoc.org. \n\n\n\nThank you to our sponsor: Marshall & Sterling Insurance
X-ALT-DESC;FMTTYPE=text/html:<br />\n<span style="font-family:times new roman\;"><span style="font-size:16px\;"><span style="color:#000000\;"><span style="background-image: initial\; background-position: initial\; background-size: initial\; background-repeat: initial\; background-attachment: initial\; background-origin: initial\; background-clip: initial\;">The Chamber presents a Network\, Present &amp\; Refer event on Tuesday\, March 9th at 12 noon. Chamber members from all categories will be able to present for 2 minutes to a collection of 25 members - describing their business or organization\, and who a good referral source is for them. Attendees are limited to one per organization and one per industry.</span></span></span></span><br />\n<br />\n<b style="color: rgb(0\, 0\, 0)\; font-family: &quot\;times new roman&quot\;\; font-size: 18px\;">This event will be held on Zoom and In Person\, participants have the option.</b><br />\n<br />\n<span style="font-family:times new roman\;"><span style="font-size:16px\;"><span style="color:#000000\;">Registration is required and will need to be approved to ensure industry exclusivity.</span><br />\n<span style="color:#000000\;"><span style="background-image: initial\; background-position: initial\; background-size: initial\; background-repeat: initial\; background-attachment: initial\; background-origin: initial\; background-clip: initial\;">Other similar events will be scheduled later.<br />\n<br />\nInterested in registering? Please email </span></span><span style="background-image: initial\; background-position: initial\; background-size: initial\; background-repeat: initial\; background-attachment: initial\; background-origin: initial\; background-clip: initial\;"><strong><a href="mailto:jgalow@dcrcoc.org"><span style="color:#0000FF\;">jgalow@dcrcoc.org</span></a></strong></span><span style="color: rgb(35\, 35\, 51)\; background-image: initial\; background-position: initial\; background-size: initial\; background-repeat: initial\; background-attachment: initial\; background-origin: initial\; background-clip: initial\;">. </span><br />\n<br />\n<b>Thank you to our sponsor: <a href="https://www.marshallsterling.com/" target="_blank"><span style="color:#0000FF\;">Marshall &amp\; Sterling Insurance</span></a>&nbsp\;</b></span></span>
LOCATION:Zoom & Dutchess County Habitat for Humanity - ReStore 1822 South Road (Route 9) Wappingers Falls
UID:e.2770.10484512
SEQUENCE:3
DTSTAMP:20260421T143912Z
URL:https://business.dcrcoc.org/events/details/chamber-network-present-refer-03-09-2021-10484512
END:VEVENT

END:VCALENDAR
