BEGIN:VCALENDAR
VERSION:2.0
PRODID:-//ChamberMaster//Event Calendar 2.0//EN
METHOD:PUBLISH
X-PUBLISHED-TTL:P3D
REFRESH-INTERVAL:P3D
CALSCALE:GREGORIAN
BEGIN:VEVENT
DTSTART:20210512T160000Z
DTEND:20210512T173000Z
X-MICROSOFT-CDO-ALLDAYEVENT:FALSE
SUMMARY:Chamber Network\, Present & Refer
DESCRIPTION:The Chamber presents a Network\, Present & Refer event on Wednesday\, May 12th at 12 noon. Chamber members from all categories will be able to present for 2 minutes to a collection of 25 members - describing their business or organization\, and who a good referral source is for them. Attendees are limited to one per organization and one per industry.\n\n\n\nThis event will be held on Zoom and In Person\, participants have the option. \n\n\n\nRegistration is required and will need to be approved to ensure industry exclusivity.\n\nOther similar events will be scheduled later.\n\n\n\nInterested in registering? Please email jgalow@dcrcoc.org. \n\n\n\nThank you to our sponsor: Rondout Savings Bank
X-ALT-DESC;FMTTYPE=text/html:<br />\n<span style="font-family:times new roman\;"><span style="font-size:16px\;"><span style="color:#000000\;"><span style="background-image: initial\; background-position: initial\; background-size: initial\; background-repeat: initial\; background-attachment: initial\; background-origin: initial\; background-clip: initial\;">The Chamber presents a Network\, Present &amp\; Refer event on Wednesday\, May 12th at 12 noon. Chamber members from all categories will be able to present for 2 minutes to a collection of 25 members - describing their business or organization\, and who a good referral source is for them. Attendees are limited to one per organization and one per industry.</span></span></span></span><br />\n<br />\n<b style="color: rgb(0\, 0\, 0)\; font-family: &quot\;times new roman&quot\;\; font-size: 18px\;">This event will be held on Zoom and In Person\, participants have the option.</b><span style="font-family:times new roman\;"><span style="font-size:16px\;"><span style="color:#000000\;"><span style="background-image: initial\; background-position: initial\; background-size: initial\; background-repeat: initial\; background-attachment: initial\; background-origin: initial\; background-clip: initial\;"> </span><br />\n<br />\nRegistration is required and will need to be approved to ensure industry exclusivity.</span><br />\n<span style="color:#000000\;"><span style="background-image: initial\; background-position: initial\; background-size: initial\; background-repeat: initial\; background-attachment: initial\; background-origin: initial\; background-clip: initial\;">Other similar events will be scheduled later.<br />\n<br />\nInterested in registering? Please email </span></span><span style="background-image: initial\; background-position: initial\; background-size: initial\; background-repeat: initial\; background-attachment: initial\; background-origin: initial\; background-clip: initial\;"><strong><a href="mailto:jgalow@dcrcoc.org"><span style="color:#0000FF\;">jgalow@dcrcoc.org</span></a></strong></span><span style="color: rgb(35\, 35\, 51)\; background-image: initial\; background-position: initial\; background-size: initial\; background-repeat: initial\; background-attachment: initial\; background-origin: initial\; background-clip: initial\;">. </span><br />\n<br />\n<b>Thank you to our sponsor:</b></span></span><span style="color: rgb(35\, 35\, 51)\; font-family: Lato\, Helvetica\, Arial\; font-size: 14px\;">&nbsp\;</span><span style="font-family:times new roman\;"><span style="font-size:16px\;"><b><a href="https://www.rondoutbank.com/" target="_blank"><span style="color:#0000FF\;">Rondout Savings Bank</span></a></b></span></span>
LOCATION:Zoom & The Art Effect at The Trolley Barn 489 Main Street Poughkeepsie
UID:e.2770.10484517
SEQUENCE:3
DTSTAMP:20260421T124428Z
URL:https://business.dcrcoc.org/events/details/chamber-network-present-refer-05-12-2021-10484517
END:VEVENT

END:VCALENDAR
