BEGIN:VCALENDAR
VERSION:2.0
PRODID:-//ChamberMaster//Event Calendar 2.0//EN
METHOD:PUBLISH
X-PUBLISHED-TTL:P3D
REFRESH-INTERVAL:P3D
CALSCALE:GREGORIAN
BEGIN:VEVENT
DTSTART:20171204T210000Z
DTEND:20171204T230000Z
X-MICROSOFT-CDO-ALLDAYEVENT:FALSE
SUMMARY:Chamber Network\, Present & Refer
DESCRIPTION:Chamber Network\, Present & Refer\, a targeted networking event\, is limited to 25 Chamber members\, one person per industry.\n\n\n\nAttendees will exchange information on his or her organization or company such as a brief business description\, promoting upcoming events\, and sharing brochures and/or business cards in a roundtable setting.\n\n\n\nOne randomly selected attendee and a representative from the event sponsor will each have 10 minutes to present an overview of his or her organization.\n\n\n\nPresenters will be chosen at random from attendees registered at least one week in advance.\n\n\n\n Members can attend a maximum of two Network\, Present\, & Refer events per year. Attendees are limited to one presentation opportunity per year.\n\n\n\nIn an ongoing effort to accommodate our members' schedules\, these quarterly events will be held in the morning at various locations or in the evening prior to a Business After Hours event. Thanks to our generous sponsors\, these events will be complimentary to attend.\n\n\n\nSponsored by: Content Studio at Martinelli Custom Publishing
X-ALT-DESC;FMTTYPE=text/html:<p><span style="font-size:12px\;"><span style="font-family:arial\;"><strong>Chamber Network\, Present &amp\; Refer\, </strong>a targeted networking event\,&nbsp\;is limited to 25 Chamber members\,&nbsp\;one person per industry.</span></span><br />\n<br />\n<span style="font-size:12px\;"><span style="font-family:arial\;">Attendees will exchange information on his or her organization or company such as a brief&nbsp\;business description\, promoting upcoming events\, and sharing brochures and/or&nbsp\;business cards&nbsp\;in a roundtable setting.</span></span><br />\n<br />\n<span style="font-size:12px\;"><span style="font-family:arial\;">One&nbsp\;randomly selected&nbsp\;attendee and a representative from the event sponsor will each&nbsp\;have 10 minutes to present an overview of his or her organization.</span></span><br />\n<br />\n<span style="font-size:12px\;"><span style="font-family:arial\;"><strong>Presenters will be chosen at random from attendees registered at least one week in advance.</strong></span></span><br />\n<br />\n&#8203\;<span style="font-size:12px\;"><span style="font-family:arial\;">Members can attend a maximum of&nbsp\;<strong style="font-family: arial\; font-size: 12px\;">two</strong>&nbsp\;Network\, Present\, &amp\; Refer events&nbsp\;per year. Attendees&nbsp\;are limited to one presentation opportunity per year.</span></span><br />\n<br />\n<span style="font-size:12px\;"><span style="font-family:arial\;">In an ongoing effort to accommodate&nbsp\;our members&#39\;&nbsp\;schedules\, these quarterly events will be held in the morning&nbsp\;at various locations&nbsp\;or in the&nbsp\;evening&nbsp\;prior to a Business After Hours event. Thanks to our generous sponsors\, these events will be complimentary to attend.<br />\n<br />\nSponsored by:&nbsp\;</span></span><a href="http://www.martinellicustompublishing.com" target="_blank"><span style="color:#0000FF\;"><b><span style="font-size: 10.5pt\; font-family: Calibri\, sans-serif\;">Content Studio at Martinelli Custom Publishing</span></b></span></a></p>\n
LOCATION:516 Haight Avenue Poughkeepsie
UID:e.2770.10476064
SEQUENCE:3
DTSTAMP:20260426T020321Z
URL:https://business.dcrcoc.org/events/details/chamber-network-present-refer-10476064
END:VEVENT

END:VCALENDAR
