BEGIN:VCALENDAR
VERSION:2.0
PRODID:-//ChamberMaster//Event Calendar 2.0//EN
METHOD:PUBLISH
X-PUBLISHED-TTL:P3D
REFRESH-INTERVAL:P3D
CALSCALE:GREGORIAN
BEGIN:VEVENT
DTSTART:20190925T193000Z
DTEND:20190925T210000Z
X-MICROSOFT-CDO-ALLDAYEVENT:FALSE
SUMMARY:Chamber Network\, Present & Refer
DESCRIPTION:Phone or e-mail registration only.\n\nChamber Network\, Present & Refer\, a targeted networking event\, is limited to 25 Chamber members\, one person per industry.\n\n\n\nAttendees will exchange information on his or her organization or company such as a brief business description\, promoting upcoming events\, and sharing brochures and/or business cards in a roundtable setting.\n\n\n\nOne randomly selected attendee and a representative from the event sponsor will each have 10 minutes to present an overview of his or her organization.\n\n\n\nPresenters will be chosen at random from attendees registered at least one week in advance.\n\n\n\n Members can attend a maximum of two Network\, Present\, & Refer events per year. Attendees are limited to one presentation opportunity per year.\n\n\n\nIn an ongoing effort to accommodate our members' schedules\, these quarterly events will be held in the morning at various locations or in the evening prior to a Business After Hours event.\n\n\n\nSponsored by: Ulster Savings Bank
X-ALT-DESC;FMTTYPE=text/html:<p><span style="font-size: 14px\;"><span style="font-family: arial\;">Phone or e-mail registration only.</span></span></p>\n\n<p><span style="font-size: 14px\;"><span style="font-family: arial\;"><span style="color: rgb(51\, 51\, 51)\; background-color: rgb(255\, 255\, 255)\;"><strong>Chamber Network\, Present &amp\; Refer\,&nbsp\;</strong>a targeted networking event\,&nbsp\;is limited to 25 Chamber members\,&nbsp\;one person per industry.</span><br style="color: rgb(51\, 51\, 51)\; font-family: sans-serif\, Arial\, Verdana\, &quot\;Trebuchet MS&quot\;\; font-size: 13px\; background-color: rgb(255\, 255\, 255)\;" />\n<br style="color: rgb(51\, 51\, 51)\; font-family: sans-serif\, Arial\, Verdana\, &quot\;Trebuchet MS&quot\;\; font-size: 13px\; background-color: rgb(255\, 255\, 255)\;" />\n<span style="color: rgb(51\, 51\, 51)\; background-color: rgb(255\, 255\, 255)\;">Attendees will exchange information on his or her organization or company such as a brief&nbsp\;business description\, promoting upcoming events\, and sharing brochures and/or&nbsp\;business cards&nbsp\;in a roundtable setting.</span><br style="color: rgb(51\, 51\, 51)\; font-family: sans-serif\, Arial\, Verdana\, &quot\;Trebuchet MS&quot\;\; font-size: 13px\; background-color: rgb(255\, 255\, 255)\;" />\n<br style="color: rgb(51\, 51\, 51)\; font-family: sans-serif\, Arial\, Verdana\, &quot\;Trebuchet MS&quot\;\; font-size: 13px\; background-color: rgb(255\, 255\, 255)\;" />\n<span style="color: rgb(51\, 51\, 51)\; background-color: rgb(255\, 255\, 255)\;">One&nbsp\;randomly selected&nbsp\;attendee and a representative from the event sponsor will each&nbsp\;have 10 minutes to present an overview of his or her organization.</span><br style="color: rgb(51\, 51\, 51)\; font-family: sans-serif\, Arial\, Verdana\, &quot\;Trebuchet MS&quot\;\; font-size: 13px\; background-color: rgb(255\, 255\, 255)\;" />\n<br style="color: rgb(51\, 51\, 51)\; font-family: sans-serif\, Arial\, Verdana\, &quot\;Trebuchet MS&quot\;\; font-size: 13px\; background-color: rgb(255\, 255\, 255)\;" />\n<span style="color: rgb(51\, 51\, 51)\; background-color: rgb(255\, 255\, 255)\;"><strong>Presenters will be chosen at random from attendees registered at least one week in advance.</strong></span><br style="color: rgb(51\, 51\, 51)\; font-family: sans-serif\, Arial\, Verdana\, &quot\;Trebuchet MS&quot\;\; font-size: 13px\; background-color: rgb(255\, 255\, 255)\;" />\n<br style="color: rgb(51\, 51\, 51)\; font-family: sans-serif\, Arial\, Verdana\, &quot\;Trebuchet MS&quot\;\; font-size: 13px\; background-color: rgb(255\, 255\, 255)\;" />\n<span style="color: rgb(51\, 51\, 51)\; background-color: rgb(255\, 255\, 255)\;">&#8203\;</span><span style="color: rgb(51\, 51\, 51)\; background-color: rgb(255\, 255\, 255)\;">Members can attend a maximum of&nbsp\;<strong>two</strong>&nbsp\;Network\, Present\, &amp\; Refer events&nbsp\;per year. Attendees&nbsp\;are limited to one presentation opportunity per year.</span><br style="color: rgb(51\, 51\, 51)\; font-family: sans-serif\, Arial\, Verdana\, &quot\;Trebuchet MS&quot\;\; font-size: 13px\; background-color: rgb(255\, 255\, 255)\;" />\n<br style="color: rgb(51\, 51\, 51)\; font-family: sans-serif\, Arial\, Verdana\, &quot\;Trebuchet MS&quot\;\; font-size: 13px\; background-color: rgb(255\, 255\, 255)\;" />\n<span style="color: rgb(51\, 51\, 51)\; background-color: rgb(255\, 255\, 255)\;">In an ongoing effort to accommodate&nbsp\;our members&#39\;&nbsp\;schedules\, these quarterly events will be held in the morning&nbsp\;at various locations&nbsp\;or in the&nbsp\;evening&nbsp\;prior to a Business After Hours event.</span><br />\n<br />\n<span style="color: rgb(0\, 0\, 0)\;"><span style="background-color: rgb(255\, 255\, 255)\;"><strong>Sponsored by</strong></span></span><span style="color: rgb(51\, 51\, 51)\; background-color: rgb(255\, 255\, 255)\;">: <a href="http://www.ulstersavings.com">Ulster Savings Bank</a></span></span></span></p>\n
LOCATION:La Puerta Azul 2510 Route 44 Salt Point
UID:e.2770.10479890
SEQUENCE:3
DTSTAMP:20260422T220853Z
URL:https://business.dcrcoc.org/events/details/chamber-network-present-refer-10479890
END:VEVENT

END:VCALENDAR
