BEGIN:VCALENDAR
VERSION:2.0
PRODID:-//ChamberMaster//Event Calendar 2.0//EN
METHOD:PUBLISH
X-PUBLISHED-TTL:P3D
REFRESH-INTERVAL:P3D
CALSCALE:GREGORIAN
BEGIN:VEVENT
DTSTART:20180223T230000Z
DTEND:20180429T000000Z
X-MICROSOFT-CDO-ALLDAYEVENT:FALSE
SUMMARY:Changing Spaces: An Artistic Exchange
DESCRIPTION:Barrett Art Center and Tivoli Artists Gallery would like to announce CHANGING SPACES: AN ARTISTIC EXCHANGE This is the first joint exhibition that will be open to all members of both Barrett Art Center and The Tivoli Artists Gallery! Exhibition Dates: TAG Exhibition Dates- February 23-March 25\, 2018 TAG Opening Reception\, Feb. 24\, 6 8pm BAC Exhibition Dates- April 7-28\, 2018 BAC Opening Reception April 7\, 3 6pm There will be an Artists' Talk with TAG artists at Barrett on April 21st from 3-4pm.
X-ALT-DESC;FMTTYPE=text/html:Barrett Art Center and Tivoli Artists Gallery would like to announce CHANGING SPACES: AN ARTISTIC EXCHANGE This is the first joint exhibition that will be open to all members of both Barrett Art Center and The Tivoli Artists Gallery! Exhibition Dates: TAG Exhibition Dates- February 23-March 25\, 2018 TAG Opening Reception\, Feb. 24\, 6&ndash\;8pm BAC Exhibition Dates- April 7-28\, 2018 BAC Opening Reception April 7\, 3&ndash\;6pm There will be an Artists&#39\; Talk with TAG artists at Barrett on April 21st from 3-4pm.
LOCATION:Barrett Art Center- 55 Noxon Street\, Poughkeepsie\, NY 12601 Tivoli Artists' Gallery-
UID:e.2770.10476790
SEQUENCE:3
DTSTAMP:20260425T194845Z
URL:https://business.dcrcoc.org/events/details/changing-spaces-an-artistic-exchange-10476790
END:VEVENT

END:VCALENDAR
