BEGIN:VCALENDAR
VERSION:2.0
PRODID:-//ChamberMaster//Event Calendar 2.0//EN
METHOD:PUBLISH
X-PUBLISHED-TTL:P3D
REFRESH-INTERVAL:P3D
CALSCALE:GREGORIAN
BEGIN:VEVENT
DTSTART:20180317T143000Z
DTEND:20180318T010000Z
X-MICROSOFT-CDO-ALLDAYEVENT:FALSE
SUMMARY:Charity Poker Tournament
DESCRIPTION:Charity Poker Tournament to support and promote youth baseball in the area while also supporting those with developmental disabilities.  Not a poker player\, but know someone that is\, please forward this information along.\n\n\n\n?Professional style Texas Hold'em style tournament will be held at the Starr Ridge Conference Center in Brewster.  $250 suggested donation will supply chips needed to play in the tournament.  Professionally run with dealers\, professional tables and chips.  Raffles and other items too.  World Poker Tour Commentator Tony Dunst will be emceeing the event and playing.  Win a seat to the 2018 World Series of Poker Main Event or World Poker Tour event.  Top finishers will also earn great items!  \n\n\n\nRegister for the event HERE.
X-ALT-DESC;FMTTYPE=text/html:Charity Poker Tournament to support and promote youth baseball in the area while also supporting those with developmental disabilities.&nbsp\; Not a poker player\, but know someone that is\, please forward this information along.<br />\n<br />\n?Professional style Texas Hold&#39\;em style tournament will be held at the Starr Ridge Conference Center in Brewster.&nbsp\; $250 suggested donation will supply chips needed to play in the tournament.&nbsp\; Professionally run with dealers\, professional tables and chips.&nbsp\; Raffles and other items too.&nbsp\; World Poker Tour Commentator Tony Dunst will be emceeing the event and playing.&nbsp\; Win a seat to the 2018 World Series of Poker Main Event or World Poker Tour event.&nbsp\; Top finishers will also earn great items! &nbsp\;<br />\n<br />\nRegister for the event <a href="http://www.3u3d.org/charity-fundraiser.html"><strong>HERE</strong></a>.<br />\n<br />\n&nbsp\;
LOCATION:Starr Ridge Conference Center\, 38 Starr Ridge Road\, Brewster\, New York Doors open 9:00am for continental breakfast\, lunch and dinner will be served.
UID:e.2770.10476873
SEQUENCE:3
DTSTAMP:20260425T210537Z
URL:https://business.dcrcoc.org/events/details/charity-poker-tournament-10476873
END:VEVENT

END:VCALENDAR
