BEGIN:VCALENDAR
VERSION:2.0
PRODID:-//ChamberMaster//Event Calendar 2.0//EN
METHOD:PUBLISH
X-PUBLISHED-TTL:P3D
REFRESH-INTERVAL:P3D
CALSCALE:GREGORIAN
BEGIN:VEVENT
DTSTART:20171228T170000Z
DTEND:20171228T190000Z
X-MICROSOFT-CDO-ALLDAYEVENT:FALSE
SUMMARY:Children’s Holiday Tea at Mount Gulian Historic Site
DESCRIPTION:Mount Gulian Historic Site will offer its popular Children's Holiday Tea on Thursday\, December 28 from noon to 2 p.m. Always sold-out in advance\, the Holiday Tea welcomes children and adults to an event that combines fun\, good manners\, and education about a bygone era\, in an authentic location where social teas were once standard fare. Offered during the holiday break and intended to bring families together\, the Children's Holiday Tea will be held in Mount Gulian's two main museum rooms\, beautifully decorated for the holidays\, with tables set with fine linens and china. "Many of our young guests dress for the occasion\, boys and girls alike. Everyone learns about the tradition of afternoon tea\, when Victorian ladies and their gentlemen met for tea\, refreshments\, and light conversation"\, says Elaine Hayes\, Executive Director. "Afternoon teas were popular at many Hudson Valley homes\, including Mount Gulian\, home of the Verplanck family. This event replicates a once common tradition\, when days were far less hectic." The menu will include assorted Harney & Sons teas\, scones and breads\, dainty finger sandwiches and a selection of homemade desserts. A craft project for the children will also be offered. Underwriting support for this program is provided by Antalek & Moore Insurance.
X-ALT-DESC;FMTTYPE=text/html:Mount Gulian Historic Site will offer its popular Children&rsquo\;s Holiday Tea on Thursday\, December 28 from noon to 2 p.m. Always sold-out in advance\, the Holiday Tea welcomes children and adults to an event that combines fun\, good manners\, and education about a bygone era\, in an authentic location where social teas were once standard fare. Offered during the holiday break and intended to bring families together\, the Children&rsquo\;s Holiday Tea will be held in Mount Gulian&rsquo\;s two main museum rooms\, beautifully decorated for the holidays\, with tables set with fine linens and china. &ldquo\;Many of our young guests dress for the occasion\, boys and girls alike. Everyone learns about the tradition of afternoon tea\, when Victorian ladies and their gentlemen met for tea\, refreshments\, and light conversation&rdquo\;\, says Elaine Hayes\, Executive Director. &ldquo\;Afternoon teas were popular at many Hudson Valley homes\, including Mount Gulian\, home of the Verplanck family. This event replicates a once common tradition\, when days were far less hectic.&rdquo\; The menu will include assorted Harney &amp\; Sons teas\, scones and breads\, dainty finger sandwiches and a selection of homemade desserts. A craft project for the children will also be offered. Underwriting support for this program is provided by Antalek &amp\; Moore Insurance.
LOCATION:Mount Gulian Historic Site 145 Sterling Street Beacon\, NY 12508
UID:e.2770.10476443
SEQUENCE:3
DTSTAMP:20260426T005341Z
URL:https://business.dcrcoc.org/events/details/children-s-holiday-tea-at-mount-gulian-historic-site-10476443
END:VEVENT

END:VCALENDAR
