BEGIN:VCALENDAR
VERSION:2.0
PRODID:-//ChamberMaster//Event Calendar 2.0//EN
METHOD:PUBLISH
X-PUBLISHED-TTL:P3D
REFRESH-INTERVAL:P3D
CALSCALE:GREGORIAN
BEGIN:VEVENT
DTSTART:20200122T133000Z
DTEND:20200122T193000Z
X-MICROSOFT-CDO-ALLDAYEVENT:FALSE
SUMMARY:Choice Words 2020 Grants Conference
DESCRIPTION:Whether it's the CFA\, MWBE\, or OPRHP\, grant seeking to support nonprofits\, businesses\, or municipalities can present a mind-numbing alphabet soup of choices. But winning the right grant can make a visionary project come to life or sustain an essential human service agency. The 2020 Choice Words Grants Conference offers grant seekers at all levels pragmatic insights from both successful Hudson Valley fundraisers and the funders themselves\, and will relate winning real-world strategies for finding\, winning\, and administering grants. Sessions to Include: - A Foundation for Success: The tools you need to build a solid grant writing program - Meet the Funders: Panel discussion with major philanthropic foundation leaders - Nobody Puts the Grant Writer in the Corner: Best practices and helpful insights - Where Infrastructure & Development Intersect: Attract and incentivize growth - Keys to CFA Success: CFA experts will divulge critical tips and information - Finding Grants & Grant Writers + What If I Win?: Including MWBE and more
X-ALT-DESC;FMTTYPE=text/html:Whether it&rsquo\;s the CFA\, MWBE\, or OPRHP\, grant seeking to support nonprofits\, businesses\, or municipalities can present a mind-numbing alphabet soup of choices. But winning the right grant can make a visionary project come to life or sustain an essential human service agency. The 2020 Choice Words Grants Conference offers grant seekers at all levels pragmatic insights from both successful Hudson Valley fundraisers and the funders themselves\, and will relate winning real-world strategies for finding\, winning\, and administering grants. Sessions to Include: - A Foundation for Success: The tools you need to build a solid grant writing program - Meet the Funders: Panel discussion with major philanthropic foundation leaders - Nobody Puts the Grant Writer in the Corner: Best practices and helpful insights - Where Infrastructure &amp\; Development Intersect: Attract and incentivize growth - Keys to CFA Success: CFA experts will divulge critical tips and information - Finding Grants &amp\; Grant Writers + What If I Win?: Including MWBE and more
LOCATION:Clarkson University's Beacon Institute: Center for Environmental Innovation and Education - Denning's Point State Park\, Beacon\, NY
UID:e.2770.10482631
SEQUENCE:3
DTSTAMP:20260422T133245Z
URL:https://business.dcrcoc.org/events/details/choice-words-2020-grants-conference-10482631
END:VEVENT

END:VCALENDAR
