BEGIN:VCALENDAR
VERSION:2.0
PRODID:-//ChamberMaster//Event Calendar 2.0//EN
METHOD:PUBLISH
X-PUBLISHED-TTL:P3D
REFRESH-INTERVAL:P3D
CALSCALE:GREGORIAN
BEGIN:VEVENT
DTSTART:20180714T003000Z
DTEND:20180714T033000Z
X-MICROSOFT-CDO-ALLDAYEVENT:FALSE
SUMMARY:Chowderhead comes to The Alley Kat!
DESCRIPTION:Chowderhead brings the party to The Alley Kat! Lots of great food\, 14 varieties of beer on tap\, cocktails and great music from Chowderhead!\n\n\n\nChowderhead comes to The Alley Kat!?
X-ALT-DESC;FMTTYPE=text/html:<div>\n<div><span style="color:rgb(29\, 33\, 41)\; font-family:system-ui\,-apple-system\,blinkmacsystemfont\,.sfnstext-regular\,sans-serif\; font-size:14px">Chowderhead brings the party to The Alley Kat! Lots of great food\, 14 varieties of beer on tap\, cocktails and great music from Chowderhead!</span><br />\n<br />\n<a href="https://www.facebook.com/events/971159689723019/">Chowderhead comes to The Alley Kat!?</a><br />\n&nbsp\;</div>\n</div>\n
LOCATION:The Alley Kat 1677 US 9 Wappingers Falls\, New York\, NY 12590
UID:e.2770.10479327
SEQUENCE:3
DTSTAMP:20260425T155052Z
URL:https://business.dcrcoc.org/events/details/chowderhead-comes-to-the-alley-kat-10479327
END:VEVENT

END:VCALENDAR
