BEGIN:VCALENDAR
VERSION:2.0
PRODID:-//ChamberMaster//Event Calendar 2.0//EN
METHOD:PUBLISH
X-PUBLISHED-TTL:P3D
REFRESH-INTERVAL:P3D
CALSCALE:GREGORIAN
BEGIN:VEVENT
DTSTART:20171117T210000Z
DTEND:20171118T210000Z
X-MICROSOFT-CDO-ALLDAYEVENT:FALSE
SUMMARY:CHRISTKINDLMARKT!
DESCRIPTION:Germania of Poughkeepsie's CHRISTKINDLMARKT! Annual Indoor Christmas Market! It's that time of year to start your holiday shopping and enjoy some delicious German food and baked goods at Germania's Annual 2-Day Christkindlmarkt! GIFTS   CRAFTS   SHOPPING - VENDORS Enjoy LUNCH or DINNER while you shop BAKED GOODS & TREATS - RAFFLE - ADVENT CALENDARS - GL EWEIN Wurst for sale by the pound & MORE!
X-ALT-DESC;FMTTYPE=text/html:Germania of Poughkeepsie&#39\;s CHRISTKINDLMARKT! Annual Indoor Christmas Market! It&rsquo\;s that time of year to start your holiday shopping and enjoy some delicious German food and baked goods at Germania&rsquo\;s Annual 2-Day Christkindlmarkt! GIFTS &ndash\; CRAFTS &ndash\; SHOPPING - VENDORS Enjoy LUNCH or DINNER while you shop BAKED GOODS &amp\; TREATS - RAFFLE - ADVENT CALENDARS - GL&Uuml\;EWEIN Wurst for sale by the pound &amp\; MORE!
LOCATION:Germania Clubhouse 37 Old DeGarmo Rd. Poughkeepsie\, NY 12603
UID:e.2770.10476549
SEQUENCE:3
DTSTAMP:20260426T020337Z
URL:https://business.dcrcoc.org/events/details/christkindlmarkt-10476549
END:VEVENT

END:VCALENDAR
