BEGIN:VCALENDAR
VERSION:2.0
PRODID:-//ChamberMaster//Event Calendar 2.0//EN
METHOD:PUBLISH
X-PUBLISHED-TTL:P3D
REFRESH-INTERVAL:P3D
CALSCALE:GREGORIAN
BEGIN:VEVENT
DTSTART:20190611T220000Z
DTEND:20190612T000000Z
X-MICROSOFT-CDO-ALLDAYEVENT:FALSE
SUMMARY:Chronogram Conversations Celebrates Hudson Valley Cider
DESCRIPTION:Let's talk about cider! Join in the conversation at Glynwood on Tuesday\, June 11 from 6-8pm (during Hudson Valley Cider week!) as we talk about all things cider and its impact on the Hudson Valley regional food system.\n\n\n \n\nApple orchards are a defining feature of the Hudson Valley's landscape and history\, and the explosion of interest in regional ciders over the past decade can ensure that they will be here for generations to come. During this special Cider Week Hudson Valley event\, hear directly from cider makers at the top of their craft about their passion for fostering and growing the Valley's orcharding traditions\, while tasting the results of their artistry and labor. Join us in creating a vibrant cider culture right here in the Hudson Valley.
X-ALT-DESC;FMTTYPE=text/html:<p style="margin: 0px\; padding: 0px\; color: rgb(111\, 114\, 135)\; font-family: &quot\;Neue Plak&quot\;\, -apple-system\, system-ui\, Roboto\, &quot\;Helvetica Neue&quot\;\, Helvetica\, Tahoma\, Arial\, sans-serif\; font-size: 14.9333px\; letter-spacing: 0.5px\;"><span style="color:#000000\;"><span style="font-size:12px\;"><span style="font-family:arial\;">Let&#39\;s talk about cider! Join in the conversation at Glynwood on Tuesday\, June 11 from 6-8pm (during Hudson Valley Cider week!) as we talk about all things cider and its impact on the Hudson Valley regional food system.</span></span></span></p>\n\n<div style="margin: 0px\; padding: 0px\; color: rgb(57\, 54\, 79)\; font-family: &quot\;Neue Plak&quot\;\, -apple-system\, system-ui\, Roboto\, &quot\;Helvetica Neue&quot\;\, Helvetica\, Tahoma\, Arial\, sans-serif\; font-size: 14.9333px\; letter-spacing: 0.5px\;">\n<p style="margin: 0px\; padding: 0px\; color: rgb(111\, 114\, 135)\;">&nbsp\;</p>\n\n<p style="margin: 0px\; padding: 10px 0px 0px\; color: rgb(111\, 114\, 135)\;"><span style="color:#000000\;"><span style="font-size:12px\;"><span style="font-family:arial\;">Apple orchards are a defining feature of the Hudson Valley&#39\;s landscape and history\, and the explosion of interest in regional ciders over the past decade can ensure that they will be here for generations to come. During this special Cider Week Hudson Valley event\, hear directly from cider makers at the top of their craft about their passion for fostering and growing the Valley&#39\;s orcharding traditions\, while tasting the results of their artistry and labor. Join us in creating a vibrant cider culture right here in the Hudson Valley.</span></span></span></p>\n</div>\n
LOCATION:About Glynwood Glynwood is an agricultural nonprofit based in Cold Spring\, New York\, working to ensure that the Hudson Valley is a region defined by food\, where farming thrives. Glynwood accomplishes this by training farmers\, empowering changemakers and creating coalitions to advance the transformation to a healthier\, resilient and equitable food system. Please visit www.glynwood.org for more information.
UID:e.2770.10480927
SEQUENCE:3
DTSTAMP:20260423T025839Z
URL:https://business.dcrcoc.org/events/details/chronogram-conversations-celebrates-hudson-valley-cider-10480927
END:VEVENT

END:VCALENDAR
