BEGIN:VCALENDAR
VERSION:2.0
PRODID:-//ChamberMaster//Event Calendar 2.0//EN
METHOD:PUBLISH
X-PUBLISHED-TTL:P3D
REFRESH-INTERVAL:P3D
CALSCALE:GREGORIAN
BEGIN:VEVENT
DTSTART:20180901T003000Z
DTEND:20180901T030000Z
X-MICROSOFT-CDO-ALLDAYEVENT:FALSE
SUMMARY:Circle 65 Returns to The Alley Kat!
DESCRIPTION:One of the hottest cover bands in the Hudson Valley is playing The Alley Kat! Circle 65 plays all of your favorites from Bob Marley\, Stevie Nicks\, Van Halen\, the Commodores! Don't miss this talented band while The Alley Kat serves up 14 varieties of tap beer\, top shelf mixed drinks and an expansive pub menu with all your favorites!\n\n\n\nCheck out the event details on our Facebook page:\n\nCircle 65 Returns to The Alley Kat!?
X-ALT-DESC;FMTTYPE=text/html:<span style="color:rgb(75\, 79\, 86)\; font-family:system-ui\,-apple-system\,blinkmacsystemfont\,.sfnstext-regular\,sans-serif\; font-size:14px">One of the hottest cover bands in the Hudson Valley is playing The Alley Kat! Circle 65 plays all of your favorites from Bob Marley\, Stevie Nicks\, Van Halen\, the Commodores! Don&#39\;t miss this talented band while The Alley Kat serves up 14 varieties of tap beer\, top shelf mixed drinks and an expansive pub menu with all your favorites!</span><br />\n<br />\nCheck out the event details on our Facebook page:<br />\n<a href="https://www.facebook.com/events/649494095432730/">Circle 65 Returns to The Alley Kat!?</a><br />\n<br />\n&nbsp\;
LOCATION:The Alley Kat 1677 US 9 Wappingers Falls\, New York\, NY 12590
UID:e.2770.10479444
SEQUENCE:3
DTSTAMP:20260425T144303Z
URL:https://business.dcrcoc.org/events/details/circle-65-returns-to-the-alley-kat-10479444
END:VEVENT

END:VCALENDAR
