BEGIN:VCALENDAR
VERSION:2.0
PRODID:-//ChamberMaster//Event Calendar 2.0//EN
METHOD:PUBLISH
X-PUBLISHED-TTL:P3D
REFRESH-INTERVAL:P3D
CALSCALE:GREGORIAN
BEGIN:VEVENT
DTSTART:20180819T003000Z
DTEND:20180819T033000Z
X-MICROSOFT-CDO-ALLDAYEVENT:FALSE
SUMMARY:Cocktails & Karaoke with Cher from Jungle Love!
DESCRIPTION:Bring your inner rockstar to our first Karaoke session hosted by Cher from Jungle Love! Enjoy one of 14 varieties of draft beer\, cocktails and delicious food all while singing your heart out!\n\n\n\nCheck out the event details on our Facebook page:\n\nCocktails & Karaoke with Cher from Jungle Love!
X-ALT-DESC;FMTTYPE=text/html:<span style="color:rgb(29\, 33\, 41)\; font-family:system-ui\,-apple-system\,blinkmacsystemfont\,.sfnstext-regular\,sans-serif\; font-size:14px">Bring your inner rockstar to our first Karaoke session hosted by Cher from Jungle Love! Enjoy one of 14 varieties of draft beer\, cocktails and delicious food all while singing your heart out!</span><br />\n<br />\nCheck out the event details on our Facebook page:<br />\n<a href="https://www.facebook.com/events/2180550785567002/">Cocktails &amp\; Karaoke with Cher from Jungle Love!</a>
LOCATION:The Alley Kat 1677 US 9 Wappingers Falls\, New York\, NY 12590
UID:e.2770.10479441
SEQUENCE:3
DTSTAMP:20260425T144458Z
URL:https://business.dcrcoc.org/events/details/cocktails-karaoke-with-cher-from-jungle-love-10479441
END:VEVENT

END:VCALENDAR
